Workbook

Sheet Лист1
B1: Определение цены Клнтракта
B2: Сведения о валюте, используемой для формирования цены контракта и расчетов с Исполнителем: Рубль Российской Федерации.
B3: Предмет закупки | C3: Поставка ламп
B4: Основные характеристики объекта закупки | C4: В соответствии с приложением № 1 «ОПИСАНИЕ ОБЪЕКТА ЗАКУПКИ» к извещению
B5: Используемый метод определения НМЦК с обоснованием | C5: Метод сопоставимых рыночных цен (анализа рынка) использован как приоритетный при определении и обосновании НМЦК
B6: Расчет НМЦК | C6: Для определения начальной (максимальной цены) контракта направлен запрос 8 потенциальным Поставщикам и использована информация из 2-х источников открытой общедоступной информации сети интернет
C7: Расчет произведен на основании полученных 3 ценовых предложений
C8: ценовая информация № 1 ( № 1390 от 17.07.2026) - 104750,00 руб.;
C9: ценовая информация № 2 ( № 1389 от 17.07.2026) - 82705,85 руб.;
C10: ценовая информация № 3 (№ 1388 от 17.07.2026) - 87050,00 руб.
C11: № п/п | D11: Наименование Товара | E11: Единиц измерения | F11: Количество | G11: Ценовая информация № 1 | I11: Ценовая информация № 2 | K11: Ценовая информация № 3 | M11: Начальная максимальная цена контракта
G12: Цена за ед. Товара руб. | H12: Стоимость Товара, руб. | I12: Цена за ед. Товара руб. | J12: Стоимость Товара, руб. | K12: Цена за ед. Товара руб | L12: Стоимость Товара, руб. | M12: НМКЦ за ед. Товара руб. | N12: НМЦК, руб.
C13: 1 | D13: Лампа накаливания галогенная | E13: шт | F13: 15 | G13: 4990 | H13: =F13*G13 -> 74850 | I13: 3720.63 | J13: =I13*F13 -> 55809.45 | K13: 3670 | L13: =F13*K13 -> 55050 | M13: =(G13+I13+K13)/3 -> 4126.8767 | N13: 61903.2
C14: 2 | D14: Лампа накаливания галогенная | E14: шт | F14: 10 | G14: 2990 | H14: =F14*G14 -> 29900 | I14: 2689.64 | J14: =I14*F14 -> 26896.4 | K14: 3200 | L14: =F14*K14 -> 32000 | M14: =(G14+I14+K14)/3 -> 2959.88 | N14: =(H14+J14+L14)/3 -> 29598.8
D15: Всего: | H15: =SUM(H13:H14) -> 104750 | J15: =SUM(J13:J14) -> 82705.85 | L15: =SUM(L13:L14) -> 87050 | N15: =SUM(N13:N14) -> 91502
C16: Среднее квадратичное отклонение = | H16: =Лист2!D12 -> 11676.944
C17: Коэффициент вариации = | G17: =Лист2!D14 -> 12.761416 | H17: %
C18: Данное значение коэффициента вариации обозначает однородность совокупности значений выявленных цен и отсутствие целесообразности проводить дополнительные исследования в целях увеличения количества ценовой информации, используемой в расчетах.
C19: Начальная (максимальная) цена контракта составляет = | J19: =J15 -> 82705.85 | K19: рублей
B21: Дата подготовки обоснования НМЦК | C21: 14. 08. 2026.

Sheet Лист2
D4: Цена, руб
C5: Источник №1 | D5: =Лист1!H15 -> 104750
C6: Источник №2 | D6: =Лист1!J15 -> 82705.85
C7: Источник №3 | D7: =Лист1!L15 -> 87050
B8: Средняя арифметическая величина | D8: =AVERAGE(D5:D7) -> 91501.95
B9: Количество значений | D9: 3
B10: Количество (объем) ТРУ | D10: 1
C12: σ= | D12: =SQRT((POWER(D5-D8,2)+POWER(D6-D8,2)+POWER(D7-D8,2))/(D9-1)) -> 11676.944
B14: Коэф.вариации V= | D14: =D12/D8*100 -> 12.761416 | E14: %
B17: Совокупность значений: | D17: =IF(D14<33,C20,C21) -> ОДНОРОДНЫЕ
C20: ОДНОРОДНЫЕ
C21: НЕОДНОРОДНЫЕ
C22: НМЦК рын.= | D22: =(D10/D9)*SUM(D5:D7) -> 91501.95
