Workbook
Name ДаНет: #N/A
Name ОКАТО_код: #N/A
Name ОКЕИ_код: #N/A

Sheet НМЦ (все цены) (2)
A1: Приложение Б
Q2: форма 9
A3: ОБОСНОВАНИЕ
A4: по начальной максимальной цене договора (НМЦ)
A6: Наименование закупки (предмет договора): | F6: =[1]ЗАКУПКА!C66 -> Поставка труб и трубопроводной арматуры
A7: Используемый метод определения НМЦ: | F7: =[1]ЗАКУПКА!C67 -> метод сопоставимых рыночных цен (анализа рынка)
A8: Срок поставки (выполнения работ, оказания услуг): | F8: =[1]ЗАКУПКА!C68 -> в течение 30 календарных дней с даты заключения договора
A9: Информация о запросах ценовых предложений (коммерческих предложений): | F9: =[1]ЗАКУПКА!C69 -> Запрос исх. №59-6187 от 28.07.2026 направлен по E-mail 28.07.2026 для 30 получателей, поиск ценовой информации в сети интернет от 13.08.2026
A10: Информация о ценовых предложениях, включая информацию из открытых источников: | F10: =[1]ЗАКУПКА!C70 -> Получено 7 КП вх. №59-604, 59-605, 59-606, 59-607, 59-608, 59-609, 59-610 от 13.08.2026 г.
A11: НМЦ/цена контракта (договора) устанавливается в размере: (с обязательным указанием информации - с учетом или без НДС, включая все налоги, сборы и обязательные платежи) | F11: =CONCATENATE(FIXED(ROUNDDOWN(Q30,0),FALSE)," (Девятьсот пятьдесят одна тысяча четыреста девяносто девять) рублей 90 копеек, с учетом НДС 22%") -> 951 499 (Девятьсот пятьдесят одна тысяча четыреста девяносто девять) рублей 90 копеек, с учетом НДС 22%
A12: Дата подготовки обоснования НМЦ: | F12: =[1]ЗАКУПКА!B1 -> 46262
A14: Расчет НМЦ
A16: № п/п | B16: Наименование товара, работы, услуги | C16: Ед. изм. | D16: Кол-во | E16: Ценовые предложения, руб. | M16: Средняя цена, руб. | N16: Среднее квадратичное отклонение | O16: Коэффициент вариации | P16: Стоимость за 1 ед. товара принятая в расчет с учетом коэффициента вариации, руб. (с учетом налогов, сборов и других обязательных платежей) | Q16: Стоимость, руб. (с учетом налогов, сборов и других обязательных платежей)
E17: №1* | F17: №2* | G17: №3* | H17: №4 | I17: №5* | J17: №6* | K17: №7* | L17: договор №***от г. с учетом ИПЦ 2025-2026 (1,051) в соответствии с Методикой №357
A18: 1 | B18: 2 | C18: 3 | D18: 4 | E18: =D18+1 -> 5 | F18: 6 | G18: 7 | H18: 8 | I18: 9 | J18: 10 | K18: 11 | L18: 12 | M18: 13 | N18: 14 | O18: 15 | P18: 16 | Q18: 17
A19: =[1]ТЗ!A19 -> 1 | B19: =[1]ТЗ!B19 -> Труба стальная бесшовная Ду 50х4,5 | C19: =[1]ТЗ!C19 -> п.м. | D19: =[1]ТЗ!D19 -> 510 | E19: =747150/D19 -> 1465 | F19: =718335/D19 -> 1408.5 | G19: =1106557.3/D19 -> 2169.7202 | K19: =563193/D19 -> 1104.3 | M19: =IFERROR(ROUND(AVERAGEIF(E19:K19,">0"),2),"") -> 1536.88 | N19: =IFERROR(_xlfn.STDEV.P($E19:$K19),"") -> 390.27565 | O19: =IFERROR(N19/M19,"") -> 0.25394022 | P19: =IF(O19<0.06,M19,IF(O19>0.32,#REF!,MIN(E19:K19))) -> 1104.3 | Q19: =IFERROR(P19*D19,"") -> 563193
A20: =[1]ТЗ!A20 -> 2 | B20: =[1]ТЗ!B20 -> Труба стальная бесшовная Ду 15х2,8 | C20: =[1]ТЗ!C20 -> п.м. | D20: =[1]ТЗ!D20 -> 12 | E20: =4932/D20 -> 411 | J20: 252 | M20: =IFERROR(ROUND(AVERAGEIF(E20:K20,">0"),2),"") -> 331.5 | N20: =IFERROR(_xlfn.STDEV.P($E20:$K20),"") -> 79.5 | O20: =IFERROR(N20/M20,"") -> 0.239819 | P20: =IF(O20<0.06,M20,IF(O20>0.32,#REF!,MIN(E20:K20))) -> 252 | Q20: =IFERROR(P20*D20,"") -> 3024
A21: =[1]ТЗ!A21 -> 3 | B21: =[1]ТЗ!B21 -> Скорлупа теплоизоляционная фольгированная d вн. 57 мм, толщина изоляции 50 мм | C21: =[1]ТЗ!C21 -> п.м. | D21: =[1]ТЗ!D21 -> 510 | E21: =541620/D21 -> 1062 | F21: =461295/D21 -> 904.5 | G21: =376229.51/D21 -> 737.70492 | H21: =400350/D21 -> 785 | I21: 884 | K21: =350064/D21 -> 686.4 | M21: =IFERROR(ROUND(AVERAGEIF(E21:K21,">0"),2),"") -> 843.27 | N21: =IFERROR(_xlfn.STDEV.P($E21:$K21),"") -> 124.09569 | O21: =IFERROR(N21/M21,"") -> 0.14716009 | P21: =IF(O21<0.06,M21,IF(O21>0.32,#REF!,MIN(E21:K21))) -> 686.4 | Q21: =IFERROR(P21*D21,"") -> 350064
A22: =[1]ТЗ!A22 -> 4 | B22: =[1]ТЗ!B22 -> Отвод крутоизогнутый цельнотянутый 90° ГОСТ 17375-2001 | C22: =[1]ТЗ!C22 -> шт | D22: =[1]ТЗ!D22 -> 52 | E22: =12792/D22 -> 246 | G22: =19180.33/D22 -> 368.8525 | H22: =22048/D22 -> 424 | I22: 218 | M22: =IFERROR(ROUND(AVERAGEIF(E22:K22,">0"),2),"") -> 314.21 | N22: =IFERROR(_xlfn.STDEV.P($E22:$K22),"") -> 85.071463 | O22: =IFERROR(N22/M22,"") -> 0.27074715 | P22: =IF(O22<0.06,M22,IF(O22>0.32,#REF!,MIN(E22:K22))) -> 218 | Q22: =IFERROR(P22*D22,"") -> 11336
A23: =[1]ТЗ!A23 -> 5 | B23: =[1]ТЗ!B23 -> Кран шаровой Ду 15 вн-вн PN16 рычаг | C23: =[1]ТЗ!C23 -> шт | D23: =[1]ТЗ!D23 -> 8 | E23: =2568/D23 -> 321 | F23: =2148/D23 -> 268.5 | G23: =2950.82/D23 -> 368.8525 | H23: =3760/D23 -> 470 | I23: =3184/D23 -> 398 | K23: =2704/D23 -> 338 | M23: =IFERROR(ROUND(AVERAGEIF(E23:K23,">0"),2),"") -> 360.73 | N23: =IFERROR(_xlfn.STDEV.P($E23:$K23),"") -> 63.240888 | O23: =IFERROR(N23/M23,"") -> 0.17531364 | P23: =IF(O23<0.06,M23,IF(O23>0.32,#REF!,MIN(E23:K23))) -> 268.5 | Q23: =IFERROR(P23*D23,"") -> 2148
A24: =[1]ТЗ!A24 -> 6 | B24: =[1]ТЗ!B24 -> Резьба приварная Ду 15 (под трубу наружным диаметром 22 мм) из стали 09Г2С | C24: =[1]ТЗ!C24 -> шт | D24: =[1]ТЗ!D24 -> 8 | E24: =192/D24 -> 24 | F24: =144/D24 -> 18 | I24: =184/D24 -> 23 | M24: =IFERROR(ROUND(AVERAGEIF(E24:K24,">0"),2),"") -> 21.67 | N24: =IFERROR(_xlfn.STDEV.P($E24:$K24),"") -> 2.6246693 | O24: =IFERROR(N24/M24,"") -> 0.12111995 | P24: =IF(O24<0.06,M24,IF(O24>0.32,#REF!,MIN(E24:K24))) -> 18 | Q24: =IFERROR(P24*D24,"") -> 144
A25: =[1]ТЗ!A25 -> 7 | B25: =[1]ТЗ!B25 -> Задвижка клиновая фланцевая 30лс41нж DN 50 PN 16 (выдвижной шпиндель, исполнение ХЛ) | C25: =[1]ТЗ!C25 -> шт | D25: =[1]ТЗ!D25 -> 4 | E25: =13048/4 -> 3262 | F25: =24168/D25 -> 6042 | I25: =25220/D25 -> 6305 | M25: =IFERROR(ROUND(AVERAGEIF(E25:K25,">0"),2),"") -> 5203 | N25: =IFERROR(_xlfn.STDEV.P($E25:$K25),"") -> 1376.6876 | O25: =IFERROR(N25/M25,"") -> 0.26459496 | P25: =IF(O25<0.06,M25,IF(O25>0.32,#REF!,MIN(E25:K25))) -> 3262 | Q25: =IFERROR(P25*D25,"") -> 13048
A26: =[1]ТЗ!A26 -> 8 | B26: =[1]ТЗ!B26 -> Ответный фланец Ду 50 ГОСТ 33259-2015 тип 11 | C26: =[1]ТЗ!C26 -> шт | D26: =[1]ТЗ!D26 -> 8 | F26: =7884/D26 -> 985.5 | G26: =8852.46/D26 -> 1106.5575 | I26: =3504/D26 -> 438 | K26: =8528/D26 -> 1066 | M26: =IFERROR(ROUND(AVERAGEIF(E26:K26,">0"),2),"") -> 899.01 | N26: =IFERROR(_xlfn.STDEV.P($E26:$K26),"") -> 269.70927 | O26: =IFERROR(N26/M26,"") -> 0.30000698 | P26: =IF(O26<0.06,M26,IF(O26>0.32,#REF!,MIN(E26:K26))) -> 438 | Q26: =IFERROR(P26*D26,"") -> 3504
A27: =[1]ТЗ!A27 -> 9 | B27: =[1]ТЗ!B27 -> Переход К-89х4,0-57х4,5-09Г2С ГОСТ 17378-2001 | C27: =[1]ТЗ!C27 -> шт | D27: =[1]ТЗ!D27 -> 2 | E27: =1140/D27 -> 570 | F27: =580.5/D27 -> 290.25 | J27: 469 | K27: =936/D27 -> 468 | M27: =IFERROR(ROUND(AVERAGEIF(E27:K27,">0"),2),"") -> 449.31 | N27: =IFERROR(_xlfn.STDEV.P($E27:$K27),"") -> 100.75114 | O27: =IFERROR(N27/M27,"") -> 0.22423526 | P27: =IF(O27<0.06,M27,IF(O27>0.32,#REF!,MIN(E27:K27))) -> 290.25 | Q27: =IFERROR(P27*D27,"") -> 580.5
A28: =[1]ТЗ!A28 -> 10 | B28: =[1]ТЗ!B28 -> Ответный фланец Ду 80 ГОСТ 33259-2015 тип 11 | C28: =[1]ТЗ!C28 -> шт | D28: =[1]ТЗ!D28 -> 2 | E28: =1888/D28 -> 944 | F28: =3375/D28 -> 1687.5 | K28: =2943.2/D28 -> 1471.6 | M28: =IFERROR(ROUND(AVERAGEIF(E28:K28,">0"),2),"") -> 1367.7 | N28: =IFERROR(_xlfn.STDEV.P($E28:$K28),"") -> 312.29737 | O28: =IFERROR(N28/M28,"") -> 0.22833762 | P28: =IF(O28<0.06,M28,IF(O28>0.32,#REF!,MIN(E28:K28))) -> 944 | Q28: =IFERROR(P28*D28,"") -> 1888
A29: =[1]ТЗ!A29 -> 11 | B29: =[1]ТЗ!B29 -> Воздухоотводчик автоматический Ду 15 (с наружной резьбой) | C29: =[1]ТЗ!C29 -> шт | D29: =[1]ТЗ!D29 -> 3 | E29: =3810/D29 -> 1270 | F29: =2570.4/D29 -> 856.8 | G29: =4426.23/D29 -> 1475.41 | K29: =3237/D29 -> 1079 | M29: =IFERROR(ROUND(AVERAGEIF(E29:K29,">0"),2),"") -> 1170.3 | N29: =IFERROR(_xlfn.STDEV.P($E29:$K29),"") -> 228.93784 | O29: =IFERROR(N29/M29,"") -> 0.19562321 | P29: =IF(O29<0.06,M29,IF(O29>0.32,#REF!,MIN(E29:K29))) -> 856.8 | Q29: =IFERROR(P29*D29,"") -> 2570.4
B30: Итого: | C30: X | D30: X | E30: =IFERROR(SUMPRODUCT($D$19:$D$29,E19:E29),"Х") -> 1329140 | F30: =IFERROR(SUMPRODUCT($D$19:$D$29,F19:F29),"Х") -> 1220499.9 | G30: =IFERROR(SUMPRODUCT($D$19:$D$29,G19:G29),"Х") -> 1518196.7 | H30: =IFERROR(SUMPRODUCT($D$19:$D$29,H19:H29),"Х") -> 426158 | I30: =IFERROR(SUMPRODUCT($D$19:$D$29,I19:I29),"Х") -> 494268 | J30: =IFERROR(SUMPRODUCT($D$19:$D$29,J19:J29),"Х") -> 3962 | K30: =IFERROR(SUMPRODUCT($D$19:$D$29,K19:K29),"Х") -> 931605.2 | L30: =IFERROR(SUMPRODUCT($D$19:$D$19,L19:L19),"Х") -> Х | M30: =IFERROR(ROUND(AVERAGEIF(E30:K30,">0"),2),"") -> 846261.39 | N30: =_xlfn.STDEV.P($E30:$K30) -> 512955.2 | O30: Х | P30: Х | Q30: =SUM(Q19:Q29) -> 951499.9
B31: Даты сбора информации | E31: 46247 | F31: 46247 | G31: 46247 | H31: 46247 | I31: 46247 | J31: 46247 | K31: 46247
B32: Следующие позиции исключены из расчета НМЦ договора в связи с превышением коэффициента вариации 0,32, как имеющие наибольшее отклонение от средней арифметической величины: позиция 8 – КП №1; позиции 2, 4 – КП №2; позиция 2, 6, 7, 9, 10 – КП №3; позиции 6, 7, 9, 11 – КП №4; позиции 9, 10, 11 – КП №5; позиции 2, 4, 6, 7 – КП №7.
B34: =[1]ЗАКУПКА!C4 -> Ведущий инженер | O34: =[1]ЗАКУПКА!D4 -> Трубникова Е.В.
B36: =[1]ЗАКУПКА!C77 -> Ведущий инженер Воропаев Р.В.
B37: =[1]ЗАКУПКА!C78 -> 60-25
B38: подпись________________ | C38: =[1]ЗАКУПКА!B1 -> 46262
