Workbook

Sheet RV_DATA
A1: BuildingFinished | B1: Trud | C1: Mash | D1: Mat | E1: MatZak | F1: Oborud | G1: OborudZak | H1: ZeroStoim | I1: NegativeKoll | J1: ReUnionKollResurcy | K1: UnionOneUchRes | L1: IdLevel | M1: ViewCodes | N1: UnionCodes | O1: PEREVOZKA
A2: 1 | B2: 1 | C2: 1 | D2: 1 | E2: 1 | F2: 1 | G2: 1 | H2: 0 | I2: 1 | J2: 0 | K2: 1 | L2: 53360025 | M2: 0 | N2: 0 | O2: 0
A4: TYPE | B4: SOURCE_LINK | C4: RABMAT_EX | D4: TIP_RAB | E4: TYPE_TRUD | F4: TAB | G4: NAME | H4: EDIZM | I4: KOLL | J4: UCH | K4: PRICE_B | L4: PRICE_ED | M4: STOIM_B | N4: PRICE_C | O4: STOIM_C | P4: ZPM_B | Q4: ZPM_ED | R4: STOIM_ZPM_B | S4: ZPM_C | T4: STOIM_ZPM_C | U4: RABMAT | V4: WBS | W4: CBSI | X4: CBSII | Y4: TechSpecCVORPP | Z4: CRC_GR_RES | AA4: CRC_B | AB4: CRC_C
A6: =Source!A20 -> 3 | B6: 20 | G6: =Source!G20 -> Ремонт крыльца
A7: =Source!A24 -> 4 | B7: 24 | G7: =Source!G24 -> 1. Крыльцо
A8: 20 | B8: 3 | C8: 2 | D8: 0 | E8: =SmtRes!AV3 -> 0 | F8: =SmtRes!I3 -> 91.06.06-048 | G8: =SmtRes!K3 -> Подъемники одномачтовые, грузоподъемность до 500 кг, высота подъема 45 м | H8: =SmtRes!O3 -> маш.-ч. | I8: =SmtRes!Y3*Source!I28 -> 0.1764 | J8: =SmtRes!AO3 -> 1 | K8: =SmtRes!AF3 -> 31.26 | L8: =SmtRes!DB3 -> 45.01 | M8: =ROUND(ROUND(L8*Source!I28, 6)*1, 2) -> 5.51 | N8: =SmtRes!AB3 -> 450.77 | O8: =ROUND(ROUND(L8*Source!I28, 6)*SmtRes!DA3, 2) -> 79.51 | P8: =SmtRes!AG3 -> 13.5 | Q8: =SmtRes!DC3 -> 19.44 | R8: =ROUND(ROUND(Q8*Source!I28, 6)*1, 2) -> 2.38 | S8: =SmtRes!AC3 -> 530.96 | T8: =ROUND(ROUND(Q8*Source!I28, 6)*SmtRes!AK3, 2) -> 93.66 | U8: 2 | Z8: =SmtRes!X3 -> 1232162608 | AA8: 142210996 | AB8: 550578493
A9: 20 | B9: 1 | C9: 1 | D9: 0 | E9: =SmtRes!AV1 -> 1 | F9: =SmtRes!I1 -> 1-100-30 | G9: =SmtRes!K1 -> Затраты труда рабочих (Средний разряд - 3) | H9: =SmtRes!O1 -> чел.-ч. | I9: =SmtRes!Y1*Source!I28 -> 8.559075 | J9: =SmtRes!AO1 -> 1 | K9: =SmtRes!AH1 -> 8.53 | L9: =SmtRes!DB1 -> 595.99 | M9: =ROUND(ROUND(L9*Source!I28, 6)*1, 2) -> 73.01 | N9: =SmtRes!AD1 -> 335.48 | O9: =ROUND(ROUND(L9*Source!I28, 6)*SmtRes!DA1, 2) -> 2871.44 | P9: =SmtRes!AG1 -> 0 | Q9: =SmtRes!DC1 -> 0 | R9: =ROUND(ROUND(Q9*Source!I28, 6)*1, 2) -> 0 | S9: =SmtRes!AC1 -> 0 | T9: =ROUND(ROUND(Q9*Source!I28, 6)*SmtRes!AK1, 2) -> 0 | U9: 1 | Z9: =SmtRes!X1 -> 1049124552 | AA9: 835615299 | AB9: 1140953449
A10: 20 | B10: 6 | C10: 3 | D10: 0 | E10: =SmtRes!AV6 -> 0 | F10: =SmtRes!I6 -> 01.7.20.03-0003 | G10: =SmtRes!K6 -> Мешки полипропиленовые (50 кг) | H10: =SmtRes!O6 -> 100 ШТ | I10: =SmtRes!Y6*Source!I30 -> 0.06616 | J10: =SmtRes!AO6 -> 1 | K10: =SmtRes!AE6 -> 82 | L10: =SmtRes!DB6 -> 16.4 | M10: =ROUND(ROUND(L10*Source!I30, 6)*1, 2) -> 5.43 | N10: =SmtRes!AA6 -> 720.78 | O10: =ROUND(ROUND(L10*Source!I30, 6)*SmtRes!DA6, 2) -> 47.69 | P10: =SmtRes!AG6 -> 0 | Q10: =SmtRes!DC6 -> 0 | R10: =ROUND(ROUND(Q10*Source!I30, 6)*1, 2) -> 0 | S10: =SmtRes!AC6 -> 0 | T10: =ROUND(ROUND(Q10*Source!I30, 6)*SmtRes!AK6, 2) -> 0 | U10: 3 | Z10: =SmtRes!X6 -> 1029976444 | AA10: -443216502 | AB10: -1924617796
A11: 20 | B11: 5 | C11: 1 | D11: 0 | E11: =SmtRes!AV5 -> 1 | F11: =SmtRes!I5 -> 1-100-10 | G11: =SmtRes!K5 -> Затраты труда рабочих (Средний разряд - 1) | H11: =SmtRes!O5 -> чел.-ч. | I11: =SmtRes!Y5*Source!I30 -> 0.340724 | J11: =SmtRes!AO5 -> 1 | K11: =SmtRes!AH5 -> 7.19 | L11: =SmtRes!DB5 -> 7.41 | M11: =ROUND(ROUND(L11*Source!I30, 6)*1, 2) -> 2.45 | N11: =SmtRes!AD5 -> 282.78 | O11: =ROUND(ROUND(L11*Source!I30, 6)*SmtRes!DA5, 2) -> 96.41 | P11: =SmtRes!AG5 -> 0 | Q11: =SmtRes!DC5 -> 0 | R11: =ROUND(ROUND(Q11*Source!I30, 6)*1, 2) -> 0 | S11: =SmtRes!AC5 -> 0 | T11: =ROUND(ROUND(Q11*Source!I30, 6)*SmtRes!AK5, 2) -> 0 | U11: 1 | Z11: =SmtRes!X5 -> -1040088138 | AA11: 2142617330 | AB11: 130596227
A12: 20 | B12: 11 | C12: 2 | D12: 0 | E12: =SmtRes!AV11 -> 0 | F12: =SmtRes!I11 -> 91.12.06-012 | G12: =SmtRes!K11 -> Рыхлители прицепные (без трактора) | H12: =SmtRes!O11 -> маш.-ч. | I12: =SmtRes!Y11*Source!I31 -> 0.00495 | J12: =SmtRes!AO11 -> 1 | K12: =SmtRes!AF11 -> 8 | L12: =SmtRes!DB11 -> 15.84 | M12: =ROUND(ROUND(L12*Source!I31, 6)*1, 2) -> 0.04 | N12: =SmtRes!AB11 -> 115.36 | O12: =ROUND(ROUND(L12*Source!I31, 6)*SmtRes!DA11, 2) -> 0.57 | P12: =SmtRes!AG11 -> 0 | Q12: =SmtRes!DC11 -> 0 | R12: =ROUND(ROUND(Q12*Source!I31, 6)*1, 2) -> 0 | S12: =SmtRes!AC11 -> 0 | T12: =ROUND(ROUND(Q12*Source!I31, 6)*SmtRes!AK11, 2) -> 0 | U12: 2 | Z12: =SmtRes!X11 -> 257130333 | AA12: -269575757 | AB12: -1455139046
A13: 20 | B13: 10 | C13: 2 | D13: 0 | E13: =SmtRes!AV10 -> 0 | F13: =SmtRes!I10 -> 91.01.05-086 | G13: =SmtRes!K10 -> Экскаваторы одноковшовые дизельные на гусеничном ходу, емкость ковша 0,65 м3 | H13: =SmtRes!O10 -> маш.-ч. | I13: =SmtRes!Y10*Source!I31 -> 0.01965 | J13: =SmtRes!AO10 -> 1 | K13: =SmtRes!AF10 -> 115.27 | L13: =SmtRes!DB10 -> 906.02 | M13: =ROUND(ROUND(L13*Source!I31, 6)*1, 2) -> 2.27 | N13: =SmtRes!AB10 -> 1662.19 | O13: =ROUND(ROUND(L13*Source!I31, 6)*SmtRes!DA10, 2) -> 32.66 | P13: =SmtRes!AG10 -> 13.5 | Q13: =SmtRes!DC10 -> 106.11 | R13: =ROUND(ROUND(Q13*Source!I31, 6)*1, 2) -> 0.27 | S13: =SmtRes!AC10 -> 530.96 | T13: =ROUND(ROUND(Q13*Source!I31, 6)*SmtRes!AK10, 2) -> 10.43 | U13: 2 | Z13: =SmtRes!X10 -> 145565111 | AA13: -148490895 | AB13: 1098055202
A14: 20 | B14: 9 | C14: 2 | D14: 0 | E14: =SmtRes!AV9 -> 0 | F14: =SmtRes!I9 -> 91.01.01-035 | G14: =SmtRes!K9 -> Бульдозеры, мощность 79 кВт (108 л.с.) | H14: =SmtRes!O9 -> маш.-ч. | I14: =SmtRes!Y9*Source!I31 -> 0.007175 | J14: =SmtRes!AO9 -> 1 | K14: =SmtRes!AF9 -> 79.07 | L14: =SmtRes!DB9 -> 226.93 | M14: =ROUND(ROUND(L14*Source!I31, 6)*1, 2) -> 0.57 | N14: =SmtRes!AB9 -> 1140.19 | O14: =ROUND(ROUND(L14*Source!I31, 6)*SmtRes!DA9, 2) -> 8.18 | P14: =SmtRes!AG9 -> 13.5 | Q14: =SmtRes!DC9 -> 38.75 | R14: =ROUND(ROUND(Q14*Source!I31, 6)*1, 2) -> 0.1 | S14: =SmtRes!AC9 -> 530.96 | T14: =ROUND(ROUND(Q14*Source!I31, 6)*SmtRes!AK9, 2) -> 3.81 | U14: 2 | Z14: =SmtRes!X9 -> -177383015 | AA14: 897322088 | AB14: -1035154801
A15: 20 | B15: 7 | C15: 1 | D15: 0 | E15: =SmtRes!AV7 -> 1 | F15: =SmtRes!I7 -> 1-100-24 | G15: =SmtRes!K7 -> Затраты труда рабочих (Средний разряд - 2,4) | H15: =SmtRes!O7 -> чел.-ч. | I15: =SmtRes!Y7*Source!I31 -> 0.12375 | J15: =SmtRes!AO7 -> 1 | K15: =SmtRes!AH7 -> 8.09 | L15: =SmtRes!DB7 -> 400.46 | M15: =ROUND(ROUND(L15*Source!I31, 6)*1, 2) -> 1 | N15: =SmtRes!AD7 -> 318.18 | O15: =ROUND(ROUND(L15*Source!I31, 6)*SmtRes!DA7, 2) -> 39.38 | P15: =SmtRes!AG7 -> 0 | Q15: =SmtRes!DC7 -> 0 | R15: =ROUND(ROUND(Q15*Source!I31, 6)*1, 2) -> 0 | S15: =SmtRes!AC7 -> 0 | T15: =ROUND(ROUND(Q15*Source!I31, 6)*SmtRes!AK7, 2) -> 0 | U15: 1 | Z15: =SmtRes!X7 -> -844220143 | AA15: 136918440 | AB15: -1195097467
A16: 20 | B16: 23 | C16: 3 | D16: 0 | E16: =SmtRes!AV23 -> 0 | F16: =SmtRes!I23 -> 11.2.13.04-0012 | G16: =SmtRes!K23 -> Щиты из досок, толщина 40 мм | H16: =SmtRes!O23 -> м2 | I16: =SmtRes!Y23*Source!I35 -> 0.102272 | J16: =SmtRes!AO23 -> 1 | K16: =SmtRes!AE23 -> 57.63 | L16: =SmtRes!DB23 -> 313.51 | M16: =ROUND(ROUND(L16*Source!I35, 6)*1, 2) -> 5.89 | N16: =SmtRes!AA23 -> 506.57 | O16: =ROUND(ROUND(L16*Source!I35, 6)*SmtRes!DA23, 2) -> 51.81 | P16: =SmtRes!AG23 -> 0 | Q16: =SmtRes!DC23 -> 0 | R16: =ROUND(ROUND(Q16*Source!I35, 6)*1, 2) -> 0 | S16: =SmtRes!AC23 -> 0 | T16: =ROUND(ROUND(Q16*Source!I35, 6)*SmtRes!AK23, 2) -> 0 | U16: 3 | Z16: =SmtRes!X23 -> 257670470 | AA16: 486346196 | AB16: 941491281
A17: 20 | B17: 22 | C17: 3 | D17: 0 | E17: =SmtRes!AV22 -> 0 | F17: =SmtRes!I22 -> 11.1.03.06-0095 | G17: =SmtRes!K22 -> Доска обрезная, хвойных пород, ширина 75-150 мм, толщина 44 мм и более, длина 4-6,5 м, сорт III | H17: =SmtRes!O22 -> м3 | I17: =SmtRes!Y22*Source!I35 -> 0.007896 | J17: =SmtRes!AO22 -> 1 | K17: =SmtRes!AE22 -> 1056 | L17: =SmtRes!DB22 -> 443.52 | M17: =ROUND(ROUND(L17*Source!I35, 6)*1, 2) -> 8.34 | N17: =SmtRes!AA22 -> 9282.24 | O17: =ROUND(ROUND(L17*Source!I35, 6)*SmtRes!DA22, 2) -> 73.29 | P17: =SmtRes!AG22 -> 0 | Q17: =SmtRes!DC22 -> 0 | R17: =ROUND(ROUND(Q17*Source!I35, 6)*1, 2) -> 0 | S17: =SmtRes!AC22 -> 0 | T17: =ROUND(ROUND(Q17*Source!I35, 6)*SmtRes!AK22, 2) -> 0 | U17: 3 | Z17: =SmtRes!X22 -> 1125321039 | AA17: -1110635432 | AB17: 1812064707
A18: 20 | B18: 21 | C18: 3 | D18: 0 | E18: =SmtRes!AV21 -> 0 | F18: =SmtRes!I21 -> 11.1.03.06-0087 | G18: =SmtRes!K21 -> Доска обрезная, хвойных пород, ширина 75-150 мм, толщина 25 мм, длина 4-6,5 м, сорт III | H18: =SmtRes!O21 -> м3 | I18: =SmtRes!Y21*Source!I35 -> 0.006016 | J18: =SmtRes!AO21 -> 1 | K18: =SmtRes!AE21 -> 1100 | L18: =SmtRes!DB21 -> 352 | M18: =ROUND(ROUND(L18*Source!I35, 6)*1, 2) -> 6.62 | N18: =SmtRes!AA21 -> 9669 | O18: =ROUND(ROUND(L18*Source!I35, 6)*SmtRes!DA21, 2) -> 58.17 | P18: =SmtRes!AG21 -> 0 | Q18: =SmtRes!DC21 -> 0 | R18: =ROUND(ROUND(Q18*Source!I35, 6)*1, 2) -> 0 | S18: =SmtRes!AC21 -> 0 | T18: =ROUND(ROUND(Q18*Source!I35, 6)*SmtRes!AK21, 2) -> 0 | U18: 3 | Z18: =SmtRes!X21 -> -896765309 | AA18: 1541204623 | AB18: 1123418932
A19: 20 | B19: 20 | C19: 3 | D19: 0 | E19: =SmtRes!AV20 -> 0 | F19: =SmtRes!I20 -> 03.1.02.03-0011 | G19: =SmtRes!K20 -> Известь строительная негашеная комовая, сорт I | H19: =SmtRes!O20 -> т | I19: =SmtRes!Y20*Source!I35 -> 0.0003948 | J19: =SmtRes!AO20 -> 1 | K19: =SmtRes!AE20 -> 734.5 | L19: =SmtRes!DB20 -> 15.42 | M19: =ROUND(ROUND(L19*Source!I35, 6)*1, 2) -> 0.29 | N19: =SmtRes!AA20 -> 6456.26 | O19: =ROUND(ROUND(L19*Source!I35, 6)*SmtRes!DA20, 2) -> 2.55 | P19: =SmtRes!AG20 -> 0 | Q19: =SmtRes!DC20 -> 0 | R19: =ROUND(ROUND(Q19*Source!I35, 6)*1, 2) -> 0 | S19: =SmtRes!AC20 -> 0 | T19: =ROUND(ROUND(Q19*Source!I35, 6)*SmtRes!AK20, 2) -> 0 | U19: 3 | Z19: =SmtRes!X20 -> 1174253204 | AA19: -1556992185 | AB19: 1548690851
A20: 20 | B20: 19 | C20: 3 | D20: 0 | E20: =SmtRes!AV19 -> 0 | F20: =SmtRes!I19 -> 01.7.15.06-0111 | G20: =SmtRes!K19 -> Гвозди строительные | H20: =SmtRes!O19 -> т | I20: =SmtRes!Y19*Source!I35 -> 0.00027636 | J20: =SmtRes!AO19 -> 1 | K20: =SmtRes!AE19 -> 11978 | L20: =SmtRes!DB19 -> 176.08 | M20: =ROUND(ROUND(L20*Source!I35, 6)*1, 2) -> 3.31 | N20: =SmtRes!AA19 -> 105286.62 | O20: =ROUND(ROUND(L20*Source!I35, 6)*SmtRes!DA19, 2) -> 29.1 | P20: =SmtRes!AG19 -> 0 | Q20: =SmtRes!DC19 -> 0 | R20: =ROUND(ROUND(Q20*Source!I35, 6)*1, 2) -> 0 | S20: =SmtRes!AC19 -> 0 | T20: =ROUND(ROUND(Q20*Source!I35, 6)*SmtRes!AK19, 2) -> 0 | U20: 3 | Z20: =SmtRes!X19 -> -45966985 | AA20: -315776304 | AB20: 494747987
A21: 20 | B21: 18 | C21: 3 | D21: 0 | E21: =SmtRes!AV18 -> 0 | F21: =SmtRes!I18 -> 01.7.03.01-0001 | G21: =SmtRes!K18 -> Вода | H21: =SmtRes!O18 -> м3 | I21: =SmtRes!Y18*Source!I35 -> 0.0011468 | J21: =SmtRes!AO18 -> 1 | K21: =SmtRes!AE18 -> 2.44 | L21: =SmtRes!DB18 -> 0.15 | M21: =ROUND(ROUND(L21*Source!I35, 6)*1, 2) -> 0 | N21: =SmtRes!AA18 -> 21.45 | O21: =ROUND(ROUND(L21*Source!I35, 6)*SmtRes!DA18, 2) -> 0.02 | P21: =SmtRes!AG18 -> 0 | Q21: =SmtRes!DC18 -> 0 | R21: =ROUND(ROUND(Q21*Source!I35, 6)*1, 2) -> 0 | S21: =SmtRes!AC18 -> 0 | T21: =ROUND(ROUND(Q21*Source!I35, 6)*SmtRes!AK18, 2) -> 0 | U21: 3 | Z21: =SmtRes!X18 -> -143474561 | AA21: 197266994 | AB21: 1852311330
A22: 20 | B22: 17 | C22: 2 | D22: 0 | E22: =SmtRes!AV17 -> 0 | F22: =SmtRes!I17 -> 91.14.02-001 | G22: =SmtRes!K17 -> Автомобили бортовые, грузоподъемность до 5 т | H22: =SmtRes!O17 -> маш.-ч. | I22: =SmtRes!Y17*Source!I35 -> 0.00235 | J22: =SmtRes!AO17 -> 1 | K22: =SmtRes!AF17 -> 65.71 | L22: =SmtRes!DB17 -> 8.2125 | M22: =ROUND(ROUND(L22*Source!I35, 6)*1, 2) -> 0.15 | N22: =SmtRes!AB17 -> 947.54 | O22: =ROUND(ROUND(L22*Source!I35, 6)*SmtRes!DA17, 2) -> 2.23 | P22: =SmtRes!AG17 -> 11.6 | Q22: =SmtRes!DC17 -> 1.45 | R22: =ROUND(ROUND(Q22*Source!I35, 6)*1, 2) -> 0.03 | S22: =SmtRes!AC17 -> 456.23 | T22: =ROUND(ROUND(Q22*Source!I35, 6)*SmtRes!AK17, 2) -> 1.07 | U22: 2 | Z22: =SmtRes!X17 -> 509054691 | AA22: 1555251513 | AB22: -341607382
A23: 20 | B23: 16 | C23: 2 | D23: 0 | E23: =SmtRes!AV16 -> 0 | F23: =SmtRes!I16 -> 91.06.05-011 | G23: =SmtRes!K16 -> Погрузчики, грузоподъемность 5 т | H23: =SmtRes!O16 -> маш.-ч. | I23: =SmtRes!Y16*Source!I35 -> 0.006345 | J23: =SmtRes!AO16 -> 1 | K23: =SmtRes!AF16 -> 89.99 | L23: =SmtRes!DB16 -> 30.375 | M23: =ROUND(ROUND(L23*Source!I35, 6)*1, 2) -> 0.57 | N23: =SmtRes!AB16 -> 1297.66 | O23: =ROUND(ROUND(L23*Source!I35, 6)*SmtRes!DA16, 2) -> 8.23 | P23: =SmtRes!AG16 -> 10.06 | Q23: =SmtRes!DC16 -> 3.4 | R23: =ROUND(ROUND(Q23*Source!I35, 6)*1, 2) -> 0.06 | S23: =SmtRes!AC16 -> 395.66 | T23: =ROUND(ROUND(Q23*Source!I35, 6)*SmtRes!AK16, 2) -> 2.51 | U23: 2 | Z23: =SmtRes!X16 -> -896236776 | AA23: 136637897 | AB23: 520652551
A24: 20 | B24: 15 | C24: 2 | D24: 0 | E24: =SmtRes!AV15 -> 0 | F24: =SmtRes!I15 -> 91.05.05-015 | G24: =SmtRes!K15 -> Краны на автомобильном ходу, грузоподъемность 16 т | H24: =SmtRes!O15 -> маш.-ч. | I24: =SmtRes!Y15*Source!I35 -> 0.001645 | J24: =SmtRes!AO15 -> 1 | K24: =SmtRes!AF15 -> 115.4 | L24: =SmtRes!DB15 -> 10.1 | M24: =ROUND(ROUND(L24*Source!I35, 6)*1, 2) -> 0.19 | N24: =SmtRes!AB15 -> 1664.07 | O24: =ROUND(ROUND(L24*Source!I35, 6)*SmtRes!DA15, 2) -> 2.74 | P24: =SmtRes!AG15 -> 13.5 | Q24: =SmtRes!DC15 -> 1.1875 | R24: =ROUND(ROUND(Q24*Source!I35, 6)*1, 2) -> 0.02 | S24: =SmtRes!AC15 -> 530.96 | T24: =ROUND(ROUND(Q24*Source!I35, 6)*SmtRes!AK15, 2) -> 0.88 | U24: 2 | Z24: =SmtRes!X15 -> -430484415 | AA24: 1310972514 | AB24: 2000656327
A25: 20 | B25: 13 | C25: 1 | D25: 0 | E25: =SmtRes!AV13 -> 1 | F25: =SmtRes!I13 -> 1-100-29 | G25: =SmtRes!K13 -> Затраты труда рабочих (Средний разряд - 2,9) | H25: =SmtRes!O13 -> чел.-ч. | I25: =SmtRes!Y13*Source!I35 -> 1.90256 | J25: =SmtRes!AO13 -> 1 | K25: =SmtRes!AH13 -> 8.46 | L25: =SmtRes!DB13 -> 856.152 | M25: =ROUND(ROUND(L25*Source!I35, 6)*1, 2) -> 16.1 | N25: =SmtRes!AD13 -> 332.73 | O25: =ROUND(ROUND(L25*Source!I35, 6)*SmtRes!DA13, 2) -> 633.04 | P25: =SmtRes!AG13 -> 0 | Q25: =SmtRes!DC13 -> 0 | R25: =ROUND(ROUND(Q25*Source!I35, 6)*1, 2) -> 0 | S25: =SmtRes!AC13 -> 0 | T25: =ROUND(ROUND(Q25*Source!I35, 6)*SmtRes!AK13, 2) -> 0 | U25: 1 | Z25: =SmtRes!X13 -> -961628416 | AA25: 1499082655 | AB25: 875232498
A26: 20 | B26: 30 | C26: 3 | D26: 0 | E26: =SmtRes!AV30 -> 0 | F26: =SmtRes!I30 -> 01.7.07.12-0024 | G26: =SmtRes!K30 -> Пленка полиэтиленовая, толщина 0,15 мм | H26: =SmtRes!O30 -> м2 | I26: =SmtRes!Y30*Source!I36 -> 0.625 | J26: =SmtRes!AO30 -> 1 | K26: =SmtRes!AE30 -> 3.62 | L26: =SmtRes!DB30 -> 905 | M26: =ROUND(ROUND(L26*Source!I36, 6)*1, 2) -> 2.26 | N26: =SmtRes!AA30 -> 31.82 | O26: =ROUND(ROUND(L26*Source!I36, 6)*SmtRes!DA30, 2) -> 19.89 | P26: =SmtRes!AG30 -> 0 | Q26: =SmtRes!DC30 -> 0 | R26: =ROUND(ROUND(Q26*Source!I36, 6)*1, 2) -> 0 | S26: =SmtRes!AC30 -> 0 | T26: =ROUND(ROUND(Q26*Source!I36, 6)*SmtRes!AK30, 2) -> 0 | U26: 3 | Z26: =SmtRes!X30 -> 1300369369 | AA26: 227914367 | AB26: 466374951
A27: 20 | B27: 29 | C27: 3 | D27: 0 | E27: =SmtRes!AV29 -> 0 | F27: =SmtRes!I29 -> 01.7.03.01-0001 | G27: =SmtRes!K29 -> Вода | H27: =SmtRes!O29 -> м3 | I27: =SmtRes!Y29*Source!I36 -> 0.004375 | J27: =SmtRes!AO29 -> 1 | K27: =SmtRes!AE29 -> 2.44 | L27: =SmtRes!DB29 -> 4.27 | M27: =ROUND(ROUND(L27*Source!I36, 6)*1, 2) -> 0.01 | N27: =SmtRes!AA29 -> 21.45 | O27: =ROUND(ROUND(L27*Source!I36, 6)*SmtRes!DA29, 2) -> 0.09 | P27: =SmtRes!AG29 -> 0 | Q27: =SmtRes!DC29 -> 0 | R27: =ROUND(ROUND(Q27*Source!I36, 6)*1, 2) -> 0 | S27: =SmtRes!AC29 -> 0 | T27: =ROUND(ROUND(Q27*Source!I36, 6)*SmtRes!AK29, 2) -> 0 | U27: 3 | Z27: =SmtRes!X29 -> -143474561 | AA27: 197266994 | AB27: 1852311330
A28: 20 | B28: 28 | C28: 2 | D28: 0 | E28: =SmtRes!AV28 -> 0 | F28: =SmtRes!I28 -> 91.14.02-001 | G28: =SmtRes!K28 -> Автомобили бортовые, грузоподъемность до 5 т | H28: =SmtRes!O28 -> маш.-ч. | I28: =SmtRes!Y28*Source!I36 -> 0.000375 | J28: =SmtRes!AO28 -> 1 | K28: =SmtRes!AF28 -> 65.71 | L28: =SmtRes!DB28 -> 9.8625 | M28: =ROUND(ROUND(L28*Source!I36, 6)*1, 2) -> 0.02 | N28: =SmtRes!AB28 -> 947.54 | O28: =ROUND(ROUND(L28*Source!I36, 6)*SmtRes!DA28, 2) -> 0.36 | P28: =SmtRes!AG28 -> 11.6 | Q28: =SmtRes!DC28 -> 1.7375 | R28: =ROUND(ROUND(Q28*Source!I36, 6)*1, 2) -> 0 | S28: =SmtRes!AC28 -> 456.23 | T28: =ROUND(ROUND(Q28*Source!I36, 6)*SmtRes!AK28, 2) -> 0.17 | U28: 2 | Z28: =SmtRes!X28 -> 509054691 | AA28: 1555251513 | AB28: -341607382
A29: 20 | B29: 27 | C29: 2 | D29: 0 | E29: =SmtRes!AV27 -> 0 | F29: =SmtRes!I27 -> 91.07.04-002 | G29: =SmtRes!K27 -> Вибраторы поверхностные | H29: =SmtRes!O27 -> маш.-ч. | I29: =SmtRes!Y27*Source!I36 -> 0.01853125 | J29: =SmtRes!AO27 -> 1 | K29: =SmtRes!AF27 -> 0.5 | L29: =SmtRes!DB27 -> 3.7125 | M29: =ROUND(ROUND(L29*Source!I36, 6)*1, 2) -> 0.01 | N29: =SmtRes!AB27 -> 7.21 | O29: =ROUND(ROUND(L29*Source!I36, 6)*SmtRes!DA27, 2) -> 0.13 | P29: =SmtRes!AG27 -> 0 | Q29: =SmtRes!DC27 -> 0 | R29: =ROUND(ROUND(Q29*Source!I36, 6)*1, 2) -> 0 | S29: =SmtRes!AC27 -> 0 | T29: =ROUND(ROUND(Q29*Source!I36, 6)*SmtRes!AK27, 2) -> 0 | U29: 2 | Z29: =SmtRes!X27 -> -1322498708 | AA29: -1524613514 | AB29: 2004498012
A30: 20 | B30: 26 | C30: 2 | D30: 0 | E30: =SmtRes!AV26 -> 0 | F30: =SmtRes!I26 -> 91.05.01-017 | G30: =SmtRes!K26 -> Краны башенные, грузоподъемность 8 т | H30: =SmtRes!O26 -> маш.-ч. | I30: =SmtRes!Y26*Source!I36 -> 0.05625 | J30: =SmtRes!AO26 -> 1 | K30: =SmtRes!AF26 -> 86.4 | L30: =SmtRes!DB26 -> 1944 | M30: =ROUND(ROUND(L30*Source!I36, 6)*1, 2) -> 4.86 | N30: =SmtRes!AB26 -> 1245.89 | O30: =ROUND(ROUND(L30*Source!I36, 6)*SmtRes!DA26, 2) -> 70.08 | P30: =SmtRes!AG26 -> 13.5 | Q30: =SmtRes!DC26 -> 303.75 | R30: =ROUND(ROUND(Q30*Source!I36, 6)*1, 2) -> 0.76 | S30: =SmtRes!AC26 -> 530.96 | T30: =ROUND(ROUND(Q30*Source!I36, 6)*SmtRes!AK26, 2) -> 29.87 | U30: 2 | Z30: =SmtRes!X26 -> -130837057 | AA30: 2072177899 | AB30: 1807981556
A31: 20 | B31: 24 | C31: 1 | D31: 0 | E31: =SmtRes!AV24 -> 1 | F31: =SmtRes!I24 -> 1-100-20 | G31: =SmtRes!K24 -> Затраты труда рабочих (Средний разряд - 2) | H31: =SmtRes!O24 -> чел.-ч. | I31: =SmtRes!Y24*Source!I36 -> 0.388125 | J31: =SmtRes!AO24 -> 1 | K31: =SmtRes!AH24 -> 7.8 | L31: =SmtRes!DB24 -> 1210.95 | M31: =ROUND(ROUND(L31*Source!I36, 6)*1, 2) -> 3.03 | N31: =SmtRes!AD24 -> 306.77 | O31: =ROUND(ROUND(L31*Source!I36, 6)*SmtRes!DA24, 2) -> 119.07 | P31: =SmtRes!AG24 -> 0 | Q31: =SmtRes!DC24 -> 0 | R31: =ROUND(ROUND(Q31*Source!I36, 6)*1, 2) -> 0 | S31: =SmtRes!AC24 -> 0 | T31: =ROUND(ROUND(Q31*Source!I36, 6)*SmtRes!AK24, 2) -> 0 | U31: 1 | Z31: =SmtRes!X24 -> 2031828327 | AA31: -1201093027 | AB31: -2142032798
A32: =Source!A37 -> 18 | B32: 37 | C32: 3 | D32: =Source!BI37 -> 1 | E32: =Source!FS37 -> 0 | F32: =Source!F37 -> 04.1.02.05-0007 | G32: =Source!G37 -> Смеси бетонные тяжелого бетона (БСТ), класс В20 (М250) | H32: =Source!H37 -> м3 | I32: =Source!I37 -> 0.255 | J32: 1 | K32: =Source!AC37 -> 665 | M32: =ROUND(K32*I32, 2) -> 169.58 | N32: =Source!AC37*IF(Source!BC37<> 0, Source!BC37, 1) -> 5845.35 | O32: =ROUND(N32*I32, 2) -> 1490.56 | P32: =Source!AE37 -> 0 | R32: =ROUND(P32*I32, 2) -> 0 | S32: =Source!AE37*IF(Source!BS37<> 0, Source!BS37, 1) -> 0 | T32: =ROUND(S32*I32, 2) -> 0 | U32: 3 | Z32: =Source!GF37 -> -1590786868 | AA32: -290492498 | AB32: 1210281076
A33: 20 | B33: 38 | C33: 3 | D33: 0 | E33: =SmtRes!AV38 -> 0 | F33: =SmtRes!I38 -> 01.7.07.29-0091 | G33: =SmtRes!K38 -> Опилки древесные | H33: =SmtRes!O38 -> м3 | I33: =SmtRes!Y38*Source!I38 -> 0.150552 | J33: =SmtRes!AO38 -> 1 | K33: =SmtRes!AE38 -> 34.92 | L33: =SmtRes!DB38 -> 106.86 | M33: =ROUND(ROUND(L33*Source!I38, 6)*1, 2) -> 5.26 | N33: =SmtRes!AA38 -> 306.95 | O33: =ROUND(ROUND(L33*Source!I38, 6)*SmtRes!DA38, 2) -> 46.21 | P33: =SmtRes!AG38 -> 0 | Q33: =SmtRes!DC38 -> 0 | R33: =ROUND(ROUND(Q33*Source!I38, 6)*1, 2) -> 0 | S33: =SmtRes!AC38 -> 0 | T33: =ROUND(ROUND(Q33*Source!I38, 6)*SmtRes!AK38, 2) -> 0 | U33: 3 | Z33: =SmtRes!X38 -> -1053408311 | AA33: 576005777 | AB33: -1880025573
A34: 20 | B34: 37 | C34: 3 | D34: 0 | E34: =SmtRes!AV37 -> 0 | F34: =SmtRes!I37 -> 01.7.03.01-0001 | G34: =SmtRes!K37 -> Вода | H34: =SmtRes!O37 -> м3 | I34: =SmtRes!Y37*Source!I38 -> 0.18942 | J34: =SmtRes!AO37 -> 1 | K34: =SmtRes!AE37 -> 2.44 | L34: =SmtRes!DB37 -> 9.39 | M34: =ROUND(ROUND(L34*Source!I38, 6)*1, 2) -> 0.46 | N34: =SmtRes!AA37 -> 21.45 | O34: =ROUND(ROUND(L34*Source!I38, 6)*SmtRes!DA37, 2) -> 4.06 | P34: =SmtRes!AG37 -> 0 | Q34: =SmtRes!DC37 -> 0 | R34: =ROUND(ROUND(Q34*Source!I38, 6)*1, 2) -> 0 | S34: =SmtRes!AC37 -> 0 | T34: =ROUND(ROUND(Q34*Source!I38, 6)*SmtRes!AK37, 2) -> 0 | U34: 3 | Z34: =SmtRes!X37 -> -143474561 | AA34: 197266994 | AB34: 1852311330
A35: 20 | B35: 36 | C35: 2 | D35: 0 | E35: =SmtRes!AV36 -> 0 | F35: =SmtRes!I36 -> 91.14.02-001 | G35: =SmtRes!K36 -> Автомобили бортовые, грузоподъемность до 5 т | H35: =SmtRes!O36 -> маш.-ч. | I35: =SmtRes!Y36*Source!I38 -> 0.01722 | J35: =SmtRes!AO36 -> 1 | K35: =SmtRes!AF36 -> 65.71 | L35: =SmtRes!DB36 -> 23 | M35: =ROUND(ROUND(L35*Source!I38, 6)*1, 2) -> 1.13 | N35: =SmtRes!AB36 -> 947.54 | O35: =ROUND(ROUND(L35*Source!I38, 6)*SmtRes!DA36, 2) -> 16.32 | P35: =SmtRes!AG36 -> 11.6 | Q35: =SmtRes!DC36 -> 4.0625 | R35: =ROUND(ROUND(Q35*Source!I38, 6)*1, 2) -> 0.2 | S35: =SmtRes!AC36 -> 456.23 | T35: =ROUND(ROUND(Q35*Source!I38, 6)*SmtRes!AK36, 2) -> 7.86 | U35: 2 | Z35: =SmtRes!X36 -> 509054691 | AA35: 1555251513 | AB35: -341607382
A36: 20 | B36: 35 | C36: 2 | D36: 0 | E36: =SmtRes!AV35 -> 0 | F36: =SmtRes!I35 -> 91.06.06-048 | G36: =SmtRes!K35 -> Подъемники одномачтовые, грузоподъемность до 500 кг, высота подъема 45 м | H36: =SmtRes!O35 -> маш.-ч. | I36: =SmtRes!Y35*Source!I38 -> 0.14145 | J36: =SmtRes!AO35 -> 1 | K36: =SmtRes!AF35 -> 31.26 | L36: =SmtRes!DB35 -> 89.875 | M36: =ROUND(ROUND(L36*Source!I38, 6)*1, 2) -> 4.42 | N36: =SmtRes!AB35 -> 450.77 | O36: =ROUND(ROUND(L36*Source!I38, 6)*SmtRes!DA35, 2) -> 63.76 | P36: =SmtRes!AG35 -> 13.5 | Q36: =SmtRes!DC35 -> 38.8125 | R36: =ROUND(ROUND(Q36*Source!I38, 6)*1, 2) -> 1.91 | S36: =SmtRes!AC35 -> 530.96 | T36: =ROUND(ROUND(Q36*Source!I38, 6)*SmtRes!AK35, 2) -> 75.1 | U36: 2 | Z36: =SmtRes!X35 -> 1232162608 | AA36: 142210996 | AB36: 550578493
A37: 20 | B37: 34 | C37: 2 | D37: 0 | E37: =SmtRes!AV34 -> 0 | F37: =SmtRes!I34 -> 91.06.05-011 | G37: =SmtRes!K34 -> Погрузчики, грузоподъемность 5 т | H37: =SmtRes!O34 -> маш.-ч. | I37: =SmtRes!Y34*Source!I38 -> 0.02214 | J37: =SmtRes!AO34 -> 1 | K37: =SmtRes!AF34 -> 89.99 | L37: =SmtRes!DB34 -> 40.5 | M37: =ROUND(ROUND(L37*Source!I38, 6)*1, 2) -> 1.99 | N37: =SmtRes!AB34 -> 1297.66 | O37: =ROUND(ROUND(L37*Source!I38, 6)*SmtRes!DA34, 2) -> 28.73 | P37: =SmtRes!AG34 -> 10.06 | Q37: =SmtRes!DC34 -> 4.525 | R37: =ROUND(ROUND(Q37*Source!I38, 6)*1, 2) -> 0.22 | S37: =SmtRes!AC34 -> 395.66 | T37: =ROUND(ROUND(Q37*Source!I38, 6)*SmtRes!AK34, 2) -> 8.76 | U37: 2 | Z37: =SmtRes!X34 -> -896236776 | AA37: 136637897 | AB37: 520652551
A38: 20 | B38: 32 | C38: 1 | D38: 0 | E38: =SmtRes!AV32 -> 1 | F38: =SmtRes!I32 -> 1-100-32 | G38: =SmtRes!K32 -> Затраты труда рабочих (Средний разряд - 3,2) | H38: =SmtRes!O32 -> чел.-ч. | I38: =SmtRes!Y32*Source!I38 -> 5.99748 | J38: =SmtRes!AO32 -> 1 | K38: =SmtRes!AH32 -> 8.74 | L38: =SmtRes!DB32 -> 1065.406 | M38: =ROUND(ROUND(L38*Source!I38, 6)*1, 2) -> 52.42 | N38: =SmtRes!AD32 -> 343.74 | O38: =ROUND(ROUND(L38*Source!I38, 6)*SmtRes!DA32, 2) -> 2061.6 | P38: =SmtRes!AG32 -> 0 | Q38: =SmtRes!DC32 -> 0 | R38: =ROUND(ROUND(Q38*Source!I38, 6)*1, 2) -> 0 | S38: =SmtRes!AC32 -> 0 | T38: =ROUND(ROUND(Q38*Source!I38, 6)*SmtRes!AK32, 2) -> 0 | U38: 1 | Z38: =SmtRes!X32 -> 784619160 | AA38: -859080157 | AB38: 1262808885
A39: =Source!A41 -> 18 | B39: 41 | C39: 3 | D39: =Source!BI41 -> 1 | E39: =Source!FS41 -> 0 | F39: =Source!F41 -> 14.1.06.04-0010 | G39: =Source!G41 -> Клей плиточный «Боларс Аква» | H39: =Source!H41 -> кг | I39: =Source!I41 -> 75 | J39: 1 | K39: =Source!AC41 -> 4.93 | M39: =ROUND(K39*I39, 2) -> 369.75 | N39: =Source!AC41*IF(Source!BC41<> 0, Source!BC41, 1) -> 43.3347 | O39: =ROUND(N39*I39, 2) -> 3250.1 | P39: =Source!AE41 -> 0 | R39: =ROUND(P39*I39, 2) -> 0 | S39: =Source!AE41*IF(Source!BS41<> 0, Source!BS41, 1) -> 0 | T39: =ROUND(S39*I39, 2) -> 0 | U39: 3 | Z39: =Source!GF41 -> 272805291 | AA39: 1494413386 | AB39: 730537242
A40: =Source!A42 -> 18 | B40: 42 | C40: 3 | D40: =Source!BI42 -> 1 | E40: =Source!FS42 -> 0 | F40: =Source!F42 -> 06.2.05.03-1000 | G40: =Source!G42 -> Плитка керамогранитная, размер 300x300x8 мм | H40: =Source!H42 -> м2 | I40: =Source!I42 -> 5.0184 | J40: 1 | K40: =Source!AC42 -> 47.83 | M40: =ROUND(K40*I40, 2) -> 240.03 | N40: =Source!AC42*IF(Source!BC42<> 0, Source!BC42, 1) -> 420.4257 | O40: =ROUND(N40*I40, 2) -> 2109.86 | P40: =Source!AE42 -> 0 | R40: =ROUND(P40*I40, 2) -> 0 | S40: =Source!AE42*IF(Source!BS42<> 0, Source!BS42, 1) -> 0 | T40: =ROUND(S40*I40, 2) -> 0 | U40: 3 | Z40: =Source!GF42 -> -773684841 | AA40: 920425757 | AB40: -1994779640
A41: 20 | B41: 55 | C41: 3 | D41: 0 | E41: =SmtRes!AV55 -> 0 | F41: =SmtRes!I55 -> 08.3.03.05-0017 | G41: =SmtRes!K55 -> Проволока стальная низкоуглеродистая разного назначения оцинкованная, диаметр 3,0 мм | H41: =SmtRes!O55 -> т | I41: =SmtRes!Y55*Source!I43 -> 0.002684 | J41: =SmtRes!AO55 -> 1 | K41: =SmtRes!AE55 -> 12242 | L41: =SmtRes!DB55 -> 244.84 | M41: =ROUND(ROUND(L41*Source!I43, 6)*1, 2) -> 32.86 | N41: =SmtRes!AA55 -> 107607.18 | O41: =ROUND(ROUND(L41*Source!I43, 6)*SmtRes!DA55, 2) -> 288.82 | P41: =SmtRes!AG55 -> 0 | Q41: =SmtRes!DC55 -> 0 | R41: =ROUND(ROUND(Q41*Source!I43, 6)*1, 2) -> 0 | S41: =SmtRes!AC55 -> 0 | T41: =ROUND(ROUND(Q41*Source!I43, 6)*SmtRes!AK55, 2) -> 0 | U41: 3 | Z41: =SmtRes!X55 -> 1354244301 | AA41: -649061568 | AB41: 1996775060
A42: 20 | B42: 53 | C42: 3 | D42: 0 | E42: =SmtRes!AV53 -> 0 | F42: =SmtRes!I53 -> 04.3.01.12-0111 | G42: =SmtRes!K53 -> Раствор готовый отделочный тяжелый, цементно-известковый, состав 1:1:6 | H42: =SmtRes!O53 -> м3 | I42: =SmtRes!Y53*Source!I43 -> 0.2684 | J42: =SmtRes!AO53 -> 1 | K42: =SmtRes!AE53 -> 517.91 | L42: =SmtRes!DB53 -> 1035.82 | M42: =ROUND(ROUND(L42*Source!I43, 6)*1, 2) -> 139.01 | N42: =SmtRes!AA53 -> 4552.43 | O42: =ROUND(ROUND(L42*Source!I43, 6)*SmtRes!DA53, 2) -> 1221.87 | P42: =SmtRes!AG53 -> 0 | Q42: =SmtRes!DC53 -> 0 | R42: =ROUND(ROUND(Q42*Source!I43, 6)*1, 2) -> 0 | S42: =SmtRes!AC53 -> 0 | T42: =ROUND(ROUND(Q42*Source!I43, 6)*SmtRes!AK53, 2) -> 0 | U42: 3 | Z42: =SmtRes!X53 -> -2007109984 | AA42: 2017654502 | AB42: -807192053
...

Sheet Смета по ФЕР 421+557пр (12
A1: =Source!B1 -> Smeta.RU (495) 974-1589
B3: "СОГЛАСОВАНО" | H3: "УТВЕРЖДАЮ"
B6: =CONCATENATE("______________________ ", IF(Source!AL12<>"", Source!AL12, "")) -> ______________________
B7: "_____"________________ 2026 г.
A10: Наименование программного продукта | F10: Программа для ЭВМ «Программа: «Smeta.RU» версия 11»
A12: Наименование редакции сметных нормативов | F12: =IF([1]Source!CQ12<>"",[1]Source!CQ12,"") -> Приказ Минстроя России от 26.12.2019 г. № 876/пр; Приказ Минстроя России от 04.08.2020 г. № 421/пр; Приказ Минстроя России от 21.12.2020 г. № 812/пр; Приказ Минстроя России от 11.12.2020 г. № 774/пр
A14: Реквизиты приказов об утверждении дополнений и изменений к сметным нормативам | F14: =IF([1]Source!CV12<>"",[1]Source!CV12,"") -> Приказ Минстроя России от 30.03.2020 г. № 172/пр; Приказ Минстроя России от 01.06.2020 г. № 294/пр; Приказ Минстроя России от 30.06.2020 г. № 352/пр; Приказ Минстроя России от 20.10.2020 г. № 636/пр; Приказ Минстроя России от 9.02.2021 г. № 51/пр; Приказ Минстроя России от 24.05.2021 г. № 321/пр; Приказ Минстроя России от 24.06.2021 г. № 408/пр; Приказ Минстроя России от 14.10.2021 г. № 746/пр; Приказ Минстроя России от 20.12.2021 г. № 962/пр; Приказ Минстроя России от 07.07.2022 г. № 557/пр, Приказ Минстроя России от 30.01.2024 г. № 55/пр; Приказ Минстроя России от 02.09.2021 г. № 636/пр, Приказ Минстроя России от 26.07.2022 г. № 611/пр; Приказ Минстроя России от 22.04.2022 г. № 317/пр
A16: Реквизиты письма Минстроя России об индексах изменения сметной стоимости строительства, включаемые в федеральный реестр сметных нормативов и размещаемые в федеральной государственной информационной системе ценообразования в строительстве, подготовленного в соответствии с пунктом 85 Методики расчета индексов изменения сметной стоимости строительства, утвержденной приказом Министерства строительства и жилищно-коммунального хозяйства Российской Федерации от 5 июня 2019 г. N 326/пр | F16: Письма Минстроя России: от 23.07.2026 г №45358-ИФ/09; от 13.08.2026 г. №50058-ИФ/09
A18: Нормативный правовой акт об утверждении оплаты труда, утверждаемый в соответствии с пунктом 22(1) Правилами мониторинга цен, утвержденными постановлением Правительства Российской Федерации от 23 декабря 2016 г. N 1452
A20: Наименование субъекта Российской Федерации | F20: (44) Костромская область
A22: Наименование зоны субъекта Российской Федерации | F22: Центральный Федеральный округ
A25: Волжская межрегиональная природоохранная прокуратура
A26: (наименование стройки)
A28: Костромская межрайонная природоохранная прокуратура
A29: (наименование объекта капитального строительства)
A31: ЛОКАЛЬНАЯ СМЕТА № 2
A33: ремонт крыльца Костромской межрайонной природоохранной прокуратуры по адресу :г.Кострома, пер.Кадыевский, д.4
A34: (наименование работ и затрат)
A37: Составлен | C37: Базисно-индексным | D37: методом
A39: Основание | C39: Дефектная ведомость
C40: (проектная и (или) иная техническая документация)
A42: Составлена в ценах III квартал 2026 года (1.01.2000) Капитальный ремонт жилых и общественных зданий
A44: Сметная стоимость | C44: =C47+C48+C49+C50 -> 161.92 | D44: =D47+D48+D49+D50 -> 6.15 | F44: тыс. руб.
B45: с НДС22% | C45: =L362/1000 -> 197.54339 | F45: тыс. руб.
B46: в том числе: | G46: Средства на оплату труда рабочих | I46: =ROUND(SUM(AR58:AR362)/1000, 2) -> 56.55 | J46: =ROUND((SUM(S58:S362))/1000, 2) -> 1.44 | K46: тыс. руб.
B47: строительных работ | C47: =ROUND((Source!F111)/1000, 2) -> 161.92 | D47: =ROUND((SUM(BH58:BH362)+SUMIF(CD58:CD362, 1, AG58:AG362)+SUMIF(CD58:CD362, 1, AF58:AF362))/1000, 2) -> 6.15 | F47: тыс. руб. | G47: Нормативные затраты труда рабочих | J47: =Source!F116 -> 144.32885 | K47: чел.-ч.
B48: монтажных работ | C48: =ROUND((Source!F112)/1000, 2) -> 0 | D48: =ROUND((SUM(BI58:BI362)+SUMIF(CD58:CD362, 2, AG58:AG362)+SUMIF(CD58:CD362, 2, AF58:AF362))/1000, 2) -> 0 | F48: тыс. руб. | G48: Нормативные затраты труда машинистов | J48: =Source!F117 -> 1.03834 | K48: чел.-ч.
B49: оборудования | C49: =ROUND((Source!F103)/1000, 2) -> 0 | D49: =ROUND((SUM(BJ58:BJ362)+SUM(AH58:AH362))/1000, 2) -> 0 | F49: тыс. руб.
B50: прочих затрат | C50: =ROUND((Source!F113)/1000, 2) -> 0 | D50: =ROUND((SUM(BL58:BL362)+SUMIF(CD58:CD362, 4, AG58:AG362)+SUM(BM58:BM362)+SUM(BN58:BN362)+SUMIF(CD58:CD362, 4, AF58:AF362))/1000, 2) -> 0 | F50: тыс. руб.
A52: № п/п | B52: Обоснование | C52: Наименование работ и затрат | D52: Единица измерения | E52: Количество | H52: Сметная стоимость в базисном уровне цен (в текущем уровне цен (гр.8) для ресурсов, отсутствующих в ФРСН), руб. | K52: Индексы | L52: Сметная стоимость в текущем уровне цен, руб.
E56: на единицу измерения | F56: коэффициенты | G56: всего с учетом коэффициентов | H56: на единицу измерения | I56: коэффициенты | J56: всего
A57: 1 | B57: 2 | C57: 3 | D57: 4 | E57: 5 | F57: 6 | G57: 7 | H57: 8 | I57: 9 | J57: 10 | K57: 11 | L57: 12
A59: Раздел: 1. Крыльцо
A60: 1 | B60: =Source!F28 -> 57-2-3 | C60: =Source!G28 -> Разборка покрытий полов: из керамических плиток | D60: =Source!H28 -> 100 м2 | E60: =Source!K28 -> 0.1225 | G60: =Source!I28 -> 0.1225
C61: ="Объем: "&Source!I28&"=12,25/"&"100" -> Объем: 0,1225=12,25/100
B62: 1 | C62: ОТ | H62: =Source!AO28 -> 595.99 | J62: =ROUND(Source!AF28*Source!I28, 2) -> 73.01 | K62: =IF(Source!BA28<> 0, Source!BA28, 1) -> 39.33 | L62: =Source!S28 -> 2871.44
B63: 2 | C63: ЭМ | H63: =Source!AM28 -> 45.01 | J63: =(ROUND((ROUND(((Source!ET28)*Source!I28),2)),2)+ROUND((ROUND(((Source!AE28-(Source!EU28))*Source!I28),2)),2)) -> 5.51 | K63: =IF(Source!BB28<> 0, Source!BB28, 1) -> 14.42 | L63: =Source!Q28 -> 79.45
B64: 3 | C64: в т.ч. ОТм | H64: =Source!AN28 -> 19.44 | J64: =(ROUND((ROUND(((Source!EU28)*Source!I28),2)),2)+ROUND((ROUND(((Source!AE28-(Source!EU28))*Source!I28),2)),2)) -> 2.38 | K64: =IF(Source!BS28<> 0, Source!BS28, 1) -> 39.33 | L64: =Source!R28 -> 93.61
C65: ЗТ | D65: чел.-ч. | E65: =Source!AQ28 -> 69.87 | G65: =ROUND(Source!U28, 7) -> 8.559075
C66: ЗТм | D66: чел.-ч. | E66: =Source!AR28 -> 1.44 | G66: =ROUND(Source!V28, 7) -> 0.1764
...

Sheet Source
A1: 0 | B1: Smeta.RU (495) 974-1589 | D1: _PS_ | F1: 0 | G1: 0 | H1: 0 | I1: Smeta.RU | K1: 1 | L1: 37979 | M1: 10 | N1: 11 | O1: 11 | P1: 0 | Q1: 3
A12: 1 | B12: 182 | C12: 0 | D12: =ROW(A126) -> 126 | E12: 0 | F12: Новый объект | G12: Ремонт крыльца у здания Костромской межрайонной природоохранной прокуратуры | I12: 0 | K12: 0 | L12: 0 | M12: 131595 | O12: 0 | P12: 0 | Q12: 0 | R12: 0 | T12: 4 | V12: 0 | AH12: Шаталов А.И. | AI12: Заместитель прокурора | AJ12: Волжская межрегональная природоохранная прокуратура | AN12: ИП Крайнова Татьяна Николаевна | BB12: 2 | BH12: Сметные нормы списания | BI12: Коды ценников | BJ12: 1 | BK12: 1 | BL12: 0 | BM12: 0 | BN12: 1 | BO12: 0 | BP12: 6 | BQ12: 2 | BR12: 1 | BS12: 1 | BT12: 0 | BU12: 0 | BV12: 0 | BW12: 0 | BX12: 0 | BZ12: Версия 1.7.6 ГСН (ГЭСН, ФЕР) и ТЕР (Методики НР (812/пр, 636/пр, 611/пр) и СП (774/пр и 317/пр) для версии 11.14.0.0 (1) [(Sm_Cloud ФЕР 2020 И9 Январь 2026 г.) на Текущий ремонт инженерных систем в здании НИУ ВШЭ по адресу: ВНИИСОК, ул. Дениса Давы~ | CE12: Поправки для ГСН (ФЕР) 2020 от 18.04.2024 г И9 (55/пр+648/пр) Капитальный ремонт жилых и общественных зданий | CF12: 0 | CG12: 0 | CH12: 403177472 | CK12: 0 | CY12: 0 | CZ12: Костромская область | EC12: 0
A15: 15 | B15: 1
A18: 52 | B18: =B126 -> 182 | C18: =C126 -> 1 | D18: =D126 -> 12 | E18: =E126 -> 0 | F18: =F126 -> Новый объект | G18: =G126 -> Ремонт крыльца у здания Костромской межрайонной природоохранной прокуратуры | O18: =O126 -> 79708.36 | P18: =P126 -> 22459.31 | Q18: =Q126 -> 701.53 | R18: =R126 -> 533.32 | S18: =S126 -> 56547.52 | T18: =T126 -> 0 | U18: =U126 -> 144.32885 | V18: =V126 -> 1.03834 | ... GX18: =GX126 -> 0
A20: 3 | B20: 1 | D20: =ROW(A94) -> 94 | G20: Ремонт крыльца | I20: 0 | K20: -1 | L20: Новая локальная смета | S20: 0 | V20: 0 | BX20: 0 | CF20: 0 | CG20: 0
A22: 52 | B22: =B94 -> 1 | C22: =C94 -> 3 | D22: =D94 -> 20 | E22: =E94 -> 0 | F22: =F94 | G22: =G94 -> Ремонт крыльца | O22: =O94 -> 79708.36 | P22: =P94 -> 22459.31 | Q22: =Q94 -> 701.53 | R22: =R94 -> 533.32 | S22: =S94 -> 56547.52 | T22: =T94 -> 0 | U22: =U94 -> 144.32885 | V22: =V94 -> 1.03834 | ... GX22: =GX94 -> 0
A24: 4 | B24: 1 | D24: =ROW(A64) -> 64 | F24: Новый раздел | G24: 1. Крыльцо | I24: 0 | K24: 0 | S24: 0 | V24: 0 | BX24: 0 | CJ24: 0
A26: 52 | B26: =B64 -> 1 | C26: =C64 -> 4 | D26: =D64 -> 24 | E26: =E64 -> 0 | F26: =F64 -> Новый раздел | G26: =G64 -> 1. Крыльцо | O26: =O64 -> 79708.36 | P26: =P64 -> 22459.31 | Q26: =Q64 -> 701.53 | R26: =R64 -> 533.32 | S26: =S64 -> 56547.52 | T26: =T64 -> 0 | U26: =U64 -> 144.32885 | V26: =V64 -> 1.03834 | ... GX26: =GX64 -> 0
A28: 17 | B28: 1 | C28: =ROW(SmtRes!A4) -> 4 | D28: =ROW(EtalonRes!A4) -> 4 | E28: 1 | F28: 57-2-3 | G28: Разборка покрытий полов: из керамических плиток | H28: 100 м2 | I28: =ROUND(12.25/100,7) -> 0.1225 | J28: 0 | K28: =ROUND(12.25/100,7) -> 0.1225 | O28: =ROUND(CP28,2) -> 2950.89 | P28: =ROUND(CQ28*I28,2) -> 0 | Q28: =(ROUND((ROUND(((ET28)*I28),2)*BB28),2)+ROUND((ROUND(((AE28-(EU28))*I28),2)*BS28),2)) -> 79.45 | R28: =(ROUND((ROUND(((EU28)*I28),2)*BS28),2)+ROUND((ROUND(((AE28-(EU28))*I28),2)*BS28),2)) -> 93.61 | S28: =ROUND(CT28*I28,2) -> 2871.44 | T28: =ROUND(CU28*I28,2) -> 0 | U28: =ROUND(CV28*I28,7) -> 8.559075 | V28: =ROUND(CW28*I28,7) -> 0.1764 | W28: =ROUND(CX28*I28,2) -> 0 | X28: =ROUND(CY28,2) -> 2638.89 | Y28: =ROUND(CZ28,2) -> 1452.87 | AA28: 53360025 | AB28: =ROUND((AC28+AD28+AF28),6) -> 641 | AC28: =ROUND((ES28),6) -> 0 | AD28: =ROUND((((ET28)-(EU28))+AE28),6) -> 45.01 | AE28: =ROUND((EU28),6) -> 19.44 | AF28: =ROUND((EV28),6) -> 595.99 | AG28: =ROUND((AP28),6) -> 0 | AH28: =(EW28) -> 69.87 | AI28: =(EX28) -> 1.44 | AJ28: =(AS28) -> 0 | AK28: 641 | AL28: 0 | AM28: 45.01 | AN28: 19.44 | AO28: 595.99 | AP28: 0 | AQ28: 69.87 | AR28: 1.44 | AS28: 0 | AT28: 89 | AU28: 49 | AV28: 1 | AW28: 1 | AZ28: 1 | BA28: 39.33 | BB28: 14.42 | BC28: 8.79 | BH28: 0 | BI28: 1 | BJ28: ФЕРр-2001 доп.8, 57-2-3, приказ Минстроя России № 746/пр от 14.10.2021 | BM28: 57001 | BN28: 0 | BO28: письмо Минстроя России от 23.07.2026 № 45358-ИФ/09. Регистрационный номер 420; письмо Минстроя России от 23.07.2026 № 45358-ИФ/09. Регистрационный номер 420; письмо Минстроя России от 23.07.2026 № 45358-ИФ/09. Регистрационный номер 420; письмо Минстроя России от 23.07.2026 № 45358-ИФ/09. Регистрационный номер 420; | BP28: 1 | BQ28: 6 | BR28: 0 | BS28: 39.33 | BT28: 1 | BU28: 1 | BV28: 1 | BW28: 1 | BX28: 1 | BZ28: 89 | CA28: 49 | CE28: 12 | CF28: 0 | CG28: 0 | CM28: 0 | CO28: 0 | CP28: =(P28+Q28+S28) -> 2950.89 | CQ28: =AC28*BC28 -> 0 | CR28: =(ROUND((ROUND(((ET28)*1),2)*BB28),2)+ROUND((ROUND(((AE28-(EU28))*1),2)*BS28),2)) -> 649.04 | CS28: =(ROUND((ROUND(((EU28)*1),2)*BS28),2)+ROUND((ROUND(((AE28-(EU28))*1),2)*BS28),2)) -> 764.58 | CT28: =AF28*BA28 -> 23440.287 | CU28: =AG28 -> 0 | CV28: =AH28 -> 69.87 | CW28: =AI28 -> 1.44 | CX28: =AJ28 -> 0 | CY28: =(((S28+R28)*AT28)/100) -> 2638.8945 | CZ28: =(((S28+R28)*AU28)/100) -> 1452.8745 | DN28: 0 | DO28: 0 | DP28: 1 | DQ28: 1 | DU28: 1005 | DV28: 100 м2 | DW28: 100 м2 | DX28: 100 | EE28: 53151429 | EF28: 6 | EG28: Ремонтно-строительные работы | EH28: 11 | EI28: Полы | EJ28: 1 | EK28: 57001 | EL28: Полы | EM28: рФЕР-57 | EQ28: 1310720 | ER28: 641 | ES28: 0 | ET28: 45.01 | EU28: 19.44 | EV28: 595.99 | EW28: 69.87 | EX28: 1.44 | EY28: 0 | FQ28: 0 | FR28: =ROUND(IF(BI28=3,GM28,0),2) -> 0 | FS28: 0 | FX28: 89 | FY28: 49 | GD28: 1 | GF28: 913237570 | GG28: 2 | GH28: 1 | GI28: 4 | GJ28: 0 | GK28: 0 | GL28: =ROUND(IF(AND(BH28=3,BI28=3,FS28<>0),P28,0),2) -> 0 | GM28: =ROUND(O28+X28+Y28,2)+GX28 -> 7042.65 | GN28: =IF(OR(BI28=0,BI28=1),GM28-GX28,0) -> 7042.65 | GO28: =IF(BI28=2,GM28-GX28,0) -> 0 | GP28: =IF(BI28=4,GM28-GX28,0) -> 0 | GR28: 0 | GS28: 3 | GT28: 0 | GV28: =ROUND((GT28),6) -> 0 | GW28: 1 | GX28: =ROUND(HC28*I28,2) -> 0 | HA28: 0 | HB28: 0 | HC28: =GV28*GW28 -> 0 | HN28: Пр/812-091.0-1 | HO28: Пр/774-091.0 | HP28: Полы | HQ28: Полы | IK28: 0
A29: 18 | B29: 1 | C29: 4 | E29: 1,1 | F29: 999-9900 | G29: Строительный мусор | H29: т | I29: =I28*J29 -> 0.637 | J29: 5.2 | K29: 5.2 | O29: =ROUND(CP29,2) -> 0 | P29: =ROUND(CQ29*I29,2) -> 0 | Q29: =(ROUND((ROUND(((ET29)*I29),2)*BB29),2)+ROUND((ROUND(((AE29-(EU29))*I29),2)*BS29),2)) -> 0 | R29: =(ROUND((ROUND(((EU29)*I29),2)*BS29),2)+ROUND((ROUND(((AE29-(EU29))*I29),2)*BS29),2)) -> 0 | S29: =ROUND(CT29*I29,2) -> 0 | T29: =ROUND(CU29*I29,2) -> 0 | U29: =ROUND(CV29*I29,7) -> 0 | V29: =ROUND(CW29*I29,7) -> 0 | W29: =ROUND(CX29*I29,2) -> 0 | X29: =ROUND(CY29,2) -> 0 | Y29: =ROUND(CZ29,2) -> 0 | AA29: 53360025 | AB29: =ROUND((AC29+AD29+AF29),6) -> 0 | AC29: =ROUND((ES29),6) -> 0 | AD29: =ROUND((((ET29)-(EU29))+AE29),6) -> 0 | AE29: =ROUND((EU29),6) -> 0 | AF29: =ROUND((EV29),6) -> 0 | AG29: =ROUND((AP29),6) -> 0 | AH29: =(EW29) -> 0 | AI29: =(EX29) -> 0 | AJ29: =(AS29) -> 0 | AK29: 0 | AL29: 0 | AM29: 0 | AN29: 0 | AO29: 0 | AP29: 0 | AQ29: 0 | AR29: 0 | AS29: 0 | AT29: 89 | AU29: 49 | AV29: 1 | AW29: 1 | AZ29: 1 | BA29: 1 | BB29: 1 | BC29: 8.79 | BH29: 3 | BI29: 1 | BM29: 57001 | BN29: 0 | BO29: письмо Минстроя России от 23.07.2026 № 45358-ИФ/09. Регистрационный номер 420 | BP29: 1 | BQ29: 6 | BR29: 0 | BS29: 1 | BT29: 1 | BU29: 1 | BV29: 1 | BW29: 1 | BX29: 1 | BZ29: 89 | CA29: 49 | CE29: 12 | CF29: 0 | CG29: 0 | CM29: 0 | CO29: 0 | CP29: =(P29+Q29+S29) -> 0 | CQ29: =AC29*BC29 -> 0 | CR29: =(ROUND((ROUND(((ET29)*1),2)*BB29),2)+ROUND((ROUND(((AE29-(EU29))*1),2)*BS29),2)) -> 0 | CS29: =(ROUND((ROUND(((EU29)*1),2)*BS29),2)+ROUND((ROUND(((AE29-(EU29))*1),2)*BS29),2)) -> 0 | CT29: =AF29*BA29 -> 0 | CU29: =AG29 -> 0 | CV29: =AH29 -> 0 | CW29: =AI29 -> 0 | CX29: =AJ29 -> 0 | CY29: =(((S29+R29)*AT29)/100) -> 0 | CZ29: =(((S29+R29)*AU29)/100) -> 0 | DN29: 0 | DO29: 0 | DP29: 1 | DQ29: 1 | DU29: 1009 | DV29: т | DW29: т | DX29: 1000 | EE29: 53151429 | EF29: 6 | EG29: Ремонтно-строительные работы | EH29: 11 | EI29: Полы | EJ29: 1 | EK29: 57001 | EL29: Полы | EM29: рФЕР-57 | EQ29: 0 | ER29: 0 | ES29: 0 | ET29: 0 | EU29: 0 | EV29: 0 | EW29: 0 | EX29: 0 | FQ29: 0 | FR29: =ROUND(IF(BI29=3,GM29,0),2) -> 0 | FS29: 0 | FX29: 89 | FY29: 49 | GD29: 1 | GF29: 2102561428 | GG29: 2 | GH29: 1 | GI29: 4 | GJ29: 0 | GK29: 0 | GL29: =ROUND(IF(AND(BH29=3,BI29=3,FS29<>0),P29,0),2) -> 0 | GM29: =ROUND(O29+X29+Y29,2)+GX29 -> 0 | GN29: =IF(OR(BI29=0,BI29=1),GM29-GX29,0) -> 0 | GO29: =IF(BI29=2,GM29-GX29,0) -> 0 | GP29: =IF(BI29=4,GM29-GX29,0) -> 0 | GR29: 0 | GS29: 3 | GT29: 0 | GV29: =ROUND((GT29),6) -> 0 | GW29: 1 | GX29: =ROUND(HC29*I29,2) -> 0 | HA29: 0 | HB29: 0 | HC29: =GV29*GW29 -> 0 | HN29: Пр/812-091.0-1 | HO29: Пр/774-091.0 | HP29: Полы | HQ29: Полы | IK29: 0
A30: 17 | B30: 1 | C30: =ROW(SmtRes!A6) -> 6 | D30: =ROW(EtalonRes!A6) -> 6 | E30: 2 | F30: 69-15-1 | G30: Затаривание строительного мусора в мешки | H30: т | I30: 0.3308 | J30: 0 | K30: 0.3308 | O30: =ROUND(CP30,2) -> 144.1 | P30: =ROUND(CQ30*I30,2) -> 47.69 | Q30: =(ROUND((ROUND(((ET30)*I30),2)*BB30),2)+ROUND((ROUND(((AE30-(EU30))*I30),2)*BS30),2)) -> 0 | R30: =(ROUND((ROUND(((EU30)*I30),2)*BS30),2)+ROUND((ROUND(((AE30-(EU30))*I30),2)*BS30),2)) -> 0 | S30: =ROUND(CT30*I30,2) -> 96.41 | T30: =ROUND(CU30*I30,2) -> 0 | U30: =ROUND(CV30*I30,7) -> 0.340724 | V30: =ROUND(CW30*I30,7) -> 0 | W30: =ROUND(CX30*I30,2) -> 0 | X30: =ROUND(CY30,2) -> 88.7 | Y30: =ROUND(CZ30,2) -> 42.42 | AA30: 53360025 | AB30: =ROUND((AC30+AD30+AF30),6) -> 23.81 | AC30: =ROUND((ES30),6) -> 16.4 | AD30: =ROUND((((ET30)-(EU30))+AE30),6) -> 0 | AE30: =ROUND((EU30),6) -> 0 | AF30: =ROUND((EV30),6) -> 7.41 | AG30: =ROUND((AP30),6) -> 0 | AH30: =(EW30) -> 1.03 | AI30: =(EX30) -> 0 | AJ30: =(AS30) -> 0 | AK30: 23.81 | AL30: 16.4 | AM30: 0 | AN30: 0 | AO30: 7.41 | AP30: 0 | AQ30: 1.03 | AR30: 0 | AS30: 0 | AT30: 92 | AU30: 44 | AV30: 1 | AW30: 1 | AZ30: 1 | BA30: 39.33 | BB30: 14.42 | BC30: 8.79 | BH30: 0 | BI30: 1 | BJ30: ФЕРр-2001, 69-15-1, приказ Минстроя России № 876/пр от 26.12.2019 | BM30: 69001 | BN30: 0 | BO30: письмо Минстроя России от 23.07.2026 № 45358-ИФ/09. Регистрационный номер 420; письмо Минстроя России от 23.07.2026 № 45358-ИФ/09. Регистрационный номер 420; письмо Минстроя России от 23.07.2026 № 45358-ИФ/09. Регистрационный номер 420; письмо Минстроя России от 23.07.2026 № 45358-ИФ/09. Регистрационный номер 420; | BP30: 1 | BQ30: 6 | BR30: 0 | BS30: 39.33 | BT30: 1 | BU30: 1 | BV30: 1 | BW30: 1 | BX30: 1 | BZ30: 92 | CA30: 44 | CE30: 12 | CF30: 0 | CG30: 0 | CM30: 0 | CO30: 0 | CP30: =(P30+Q30+S30) -> 144.1 | CQ30: =AC30*BC30 -> 144.156 | CR30: =(ROUND((ROUND(((ET30)*1),2)*BB30),2)+ROUND((ROUND(((AE30-(EU30))*1),2)*BS30),2)) -> 0 | CS30: =(ROUND((ROUND(((EU30)*1),2)*BS30),2)+ROUND((ROUND(((AE30-(EU30))*1),2)*BS30),2)) -> 0 | CT30: =AF30*BA30 -> 291.4353 | CU30: =AG30 -> 0 | CV30: =AH30 -> 1.03 | CW30: =AI30 -> 0 | CX30: =AJ30 -> 0 | CY30: =(((S30+R30)*AT30)/100) -> 88.6972 | CZ30: =(((S30+R30)*AU30)/100) -> 42.4204 | DN30: 0 | DO30: 0 | DP30: 1 | DQ30: 1 | DU30: 1009 | DV30: т | DW30: т | DX30: 1000 | EE30: 53151461 | EF30: 6 | EG30: Ремонтно-строительные работы | EH30: 103 | EI30: Прочие ремонтно-строительные работы | EJ30: 1 | EK30: 69001 | EL30: Прочие ремонтно-строительные работы | EM30: рФЕР-69 | EQ30: 1310720 | ER30: 23.81 | ES30: 16.4 | ET30: 0 | EU30: 0 | EV30: 7.41 | EW30: 1.03 | EX30: 0 | EY30: 0 | FQ30: 0 | FR30: =ROUND(IF(BI30=3,GM30,0),2) -> 0 | FS30: 0 | FX30: 92 | FY30: 44 | GD30: 1 | GF30: 459127888 | GG30: 2 | GH30: 1 | GI30: 4 | GJ30: 0 | GK30: 0 | GL30: =ROUND(IF(AND(BH30=3,BI30=3,FS30<>0),P30,0),2) -> 0 | GM30: =ROUND(O30+X30+Y30,2)+GX30 -> 275.22 | GN30: =IF(OR(BI30=0,BI30=1),GM30-GX30,0) -> 275.22 | GO30: =IF(BI30=2,GM30-GX30,0) -> 0 | GP30: =IF(BI30=4,GM30-GX30,0) -> 0 | GR30: 0 | GS30: 3 | GT30: 0 | GV30: =ROUND((GT30),6) -> 0 | GW30: 1 | GX30: =ROUND(HC30*I30,2) -> 0 | HA30: 0 | HB30: 0 | HC30: =GV30*GW30 -> 0 | HN30: Пр/812-103.0-1 | HO30: Пр/774-103.0 | HP30: Прочие ремонтно-строительные работы | HQ30: Прочие ремонтно-строительные работы | IK30: 0
A31: 17 | B31: 1 | C31: =ROW(SmtRes!A12) -> 12 | D31: =ROW(EtalonRes!A11) -> 11 | E31: 3 | F31: 68-12-5 | G31: Разборка покрытий и оснований: цементно-бетонных | H31: 100 м3 | I31: =ROUND(0.25/100,7) -> 0.0025 | J31: 0 | K31: =ROUND(0.25/100,7) -> 0.0025 | O31: =ROUND(CP31,2) -> 80.77 | P31: =ROUND(CQ31*I31,2) -> 0 | Q31: =(ROUND((ROUND(((ET31)*I31),2)*BB31),2)+ROUND((ROUND(((AE31-(EU31))*I31),2)*BS31),2)) -> 41.39 | R31: =(ROUND((ROUND(((EU31)*I31),2)*BS31),2)+ROUND((ROUND(((AE31-(EU31))*I31),2)*BS31),2)) -> 14.16 | S31: =ROUND(CT31*I31,2) -> 39.38 | T31: =ROUND(CU31*I31,2) -> 0 | U31: =ROUND(CV31*I31,7) -> 0.12375 | V31: =ROUND(CW31*I31,7) -> 0.026825 | W31: =ROUND(CX31*I31,2) -> 0 | X31: =ROUND(CY31,2) -> 54.61 | Y31: =ROUND(CZ31,2) -> 28.91 | AA31: 53360025 | AB31: =ROUND((AC31+AD31+AF31),6) -> 1549.25 | AC31: =ROUND((ES31),6) -> 0 | AD31: =ROUND((((ET31)-(EU31))+AE31),6) -> 1148.79 | AE31: =ROUND((EU31),6) -> 144.86 | AF31: =ROUND((EV31),6) -> 400.46 | AG31: =ROUND((AP31),6) -> 0 | AH31: =(EW31) -> 49.5 | AI31: =(EX31) -> 10.73 | AJ31: =(AS31) -> 0 | AK31: 1549.25 | AL31: 0 | AM31: 1148.79 | AN31: 144.86 | AO31: 400.46 | AP31: 0 | AQ31: 49.5 | AR31: 10.73 | AS31: 0 | AT31: 102 | AU31: 54 | AV31: 1 | AW31: 1 | AZ31: 1 | BA31: 39.33 | BB31: 14.42 | BC31: 8.79 | BH31: 0 | BI31: 1 | BJ31: ФЕРр-2001, 68-12-5, приказ Минстроя России № 876/пр от 26.12.2019 | BM31: 68001 | BN31: 0 | BO31: письмо Минстроя России от 23.07.2026 № 45358-ИФ/09. Регистрационный номер 420; письмо Минстроя России от 23.07.2026 № 45358-ИФ/09. Регистрационный номер 420; письмо Минстроя России от 23.07.2026 № 45358-ИФ/09. Регистрационный номер 420; письмо Минстроя России от 23.07.2026 № 45358-ИФ/09. Регистрационный номер 420; | BP31: 1 | BQ31: 6 | BR31: 0 | BS31: 39.33 | BT31: 1 | BU31: 1 | BV31: 1 | BW31: 1 | BX31: 1 | BZ31: 102 | CA31: 54 | CE31: 12 | CF31: 0 | CG31: 0 | CM31: 0 | CO31: 0 | CP31: =(P31+Q31+S31) -> 80.77 | CQ31: =AC31*BC31 -> 0 | CR31: =(ROUND((ROUND(((ET31)*1),2)*BB31),2)+ROUND((ROUND(((AE31-(EU31))*1),2)*BS31),2)) -> 16565.55 | CS31: =(ROUND((ROUND(((EU31)*1),2)*BS31),2)+ROUND((ROUND(((AE31-(EU31))*1),2)*BS31),2)) -> 5697.34 | CT31: =AF31*BA31 -> 15750.092 | CU31: =AG31 -> 0 | CV31: =AH31 -> 49.5 | CW31: =AI31 -> 10.73 | CX31: =AJ31 -> 0 | CY31: =(((S31+R31)*AT31)/100) -> 54.6108 | CZ31: =(((S31+R31)*AU31)/100) -> 28.9116 | DN31: 0 | DO31: 0 | DP31: 1 | DQ31: 1 | DU31: 1007 | DV31: 100 м3 | DW31: 100 м3 | DX31: 100 | EE31: 53151460 | EF31: 6 | EG31: Ремонтно-строительные работы | EH31: 102 | EI31: Благоустройство | EJ31: 1 | EK31: 68001 | EL31: Благоустройство | EM31: рФЕР-68 | EQ31: 1310720 | ER31: 1549.25 | ES31: 0 | ET31: 1148.79 | EU31: 144.86 | EV31: 400.46 | EW31: 49.5 | EX31: 10.73 | EY31: 0 | FQ31: 0 | FR31: =ROUND(IF(BI31=3,GM31,0),2) -> 0 | FS31: 0 | FX31: 102 | FY31: 54 | GD31: 1 | GF31: 1362116616 | GG31: 2 | GH31: 1 | GI31: 4 | GJ31: 0 | GK31: 0 | GL31: =ROUND(IF(AND(BH31=3,BI31=3,FS31<>0),P31,0),2) -> 0 | GM31: =ROUND(O31+X31+Y31,2)+GX31 -> 164.29 | GN31: =IF(OR(BI31=0,BI31=1),GM31-GX31,0) -> 164.29 | GO31: =IF(BI31=2,GM31-GX31,0) -> 0 | GP31: =IF(BI31=4,GM31-GX31,0) -> 0 | GR31: 0 | GS31: 3 | GT31: 0 | GV31: =ROUND((GT31),6) -> 0 | GW31: 1 | GX31: =ROUND(HC31*I31,2) -> 0 | HA31: 0 | HB31: 0 | HC31: =GV31*GW31 -> 0 | HN31: Пр/812-102.0-1 | HO31: Пр/774-102.0 | HP31: Благоустройство | HQ31: Благоустройство | IK31: 0
A32: 18 | B32: 1 | C32: 12 | E32: 3,1 | F32: 999-9900 | G32: Строительный мусор | H32: т | I32: =I31*J32 -> 0.6 | J32: 240 | K32: 240 | O32: =ROUND(CP32,2) -> 0 | P32: =ROUND(CQ32*I32,2) -> 0 | Q32: =(ROUND((ROUND(((ET32)*I32),2)*BB32),2)+ROUND((ROUND(((AE32-(EU32))*I32),2)*BS32),2)) -> 0 | R32: =(ROUND((ROUND(((EU32)*I32),2)*BS32),2)+ROUND((ROUND(((AE32-(EU32))*I32),2)*BS32),2)) -> 0 | S32: =ROUND(CT32*I32,2) -> 0 | T32: =ROUND(CU32*I32,2) -> 0 | U32: =ROUND(CV32*I32,7) -> 0 | V32: =ROUND(CW32*I32,7) -> 0 | W32: =ROUND(CX32*I32,2) -> 0 | X32: =ROUND(CY32,2) -> 0 | Y32: =ROUND(CZ32,2) -> 0 | AA32: 53360025 | AB32: =ROUND((AC32+AD32+AF32),6) -> 0 | AC32: =ROUND((ES32),6) -> 0 | AD32: =ROUND((((ET32)-(EU32))+AE32),6) -> 0 | AE32: =ROUND((EU32),6) -> 0 | AF32: =ROUND((EV32),6) -> 0 | AG32: =ROUND((AP32),6) -> 0 | AH32: =(EW32) -> 0 | AI32: =(EX32) -> 0 | AJ32: =(AS32) -> 0 | AK32: 0 | AL32: 0 | AM32: 0 | AN32: 0 | AO32: 0 | AP32: 0 | AQ32: 0 | AR32: 0 | AS32: 0 | AT32: 89 | AU32: 49 | AV32: 1 | AW32: 1 | AZ32: 1 | BA32: 1 | BB32: 1 | BC32: 8.79 | BH32: 3 | BI32: 1 | BM32: 57001 | BN32: 0 | BO32: письмо Минстроя России от 23.07.2026 № 45358-ИФ/09. Регистрационный номер 420 | BP32: 1 | BQ32: 6 | BR32: 0 | BS32: 1 | BT32: 1 | BU32: 1 | BV32: 1 | BW32: 1 | BX32: 1 | BZ32: 89 | CA32: 49 | CE32: 12 | CF32: 0 | CG32: 0 | CM32: 0 | CO32: 0 | CP32: =(P32+Q32+S32) -> 0 | CQ32: =AC32*BC32 -> 0 | CR32: =(ROUND((ROUND(((ET32)*1),2)*BB32),2)+ROUND((ROUND(((AE32-(EU32))*1),2)*BS32),2)) -> 0 | CS32: =(ROUND((ROUND(((EU32)*1),2)*BS32),2)+ROUND((ROUND(((AE32-(EU32))*1),2)*BS32),2)) -> 0 | CT32: =AF32*BA32 -> 0 | CU32: =AG32 -> 0 | CV32: =AH32 -> 0 | CW32: =AI32 -> 0 | CX32: =AJ32 -> 0 | CY32: =(((S32+R32)*AT32)/100) -> 0 | CZ32: =(((S32+R32)*AU32)/100) -> 0 | DN32: 0 | DO32: 0 | DP32: 1 | DQ32: 1 | DU32: 1009 | DV32: т | DW32: т | DX32: 1000 | EE32: 53151429 | EF32: 6 | EG32: Ремонтно-строительные работы | EH32: 11 | EI32: Полы | EJ32: 1 | EK32: 57001 | EL32: Полы | EM32: рФЕР-57 | EQ32: 0 | ER32: 0 | ES32: 0 | ET32: 0 | EU32: 0 | EV32: 0 | EW32: 0 | EX32: 0 | FQ32: 0 | FR32: =ROUND(IF(BI32=3,GM32,0),2) -> 0 | FS32: 0 | FX32: 89 | FY32: 49 | GD32: 1 | GF32: 2102561428 | GG32: 2 | GH32: 1 | GI32: 4 | GJ32: 0 | GK32: 0 | GL32: =ROUND(IF(AND(BH32=3,BI32=3,FS32<>0),P32,0),2) -> 0 | GM32: =ROUND(O32+X32+Y32,2)+GX32 -> 0 | GN32: =IF(OR(BI32=0,BI32=1),GM32-GX32,0) -> 0 | GO32: =IF(BI32=2,GM32-GX32,0) -> 0 | GP32: =IF(BI32=4,GM32-GX32,0) -> 0 | GR32: 0 | GS32: 3 | GT32: 0 | GV32: =ROUND((GT32),6) -> 0 | GW32: 1 | GX32: =ROUND(HC32*I32,2) -> 0 | HA32: 0 | HB32: 0 | HC32: =GV32*GW32 -> 0 | HN32: Пр/812-091.0-1 | HO32: Пр/774-091.0 | HP32: Полы | HQ32: Полы | IK32: 0
A33: 17 | B33: 1 | E33: 4 | F33: т01-01-01-041 | G33: Погрузка при автомобильных перевозках мусора строительного с погрузкой вручную | H33: 1 Т ГРУЗА | I33: 0.3308 | J33: 0 | K33: 0.3308 | O33: =0 -> 0 | P33: =0 -> 0 | Q33: =0 -> 0 | R33: =0 -> 0 | S33: =0 -> 0 | T33: =0 -> 0 | U33: =0 -> 0 | V33: =0 -> 0 | ... Y33: =0 -> 0 | AA33: 53360025 | AB33: =ROUND((AK33),6) -> 42.98 | AC33: =0 -> 0 | AD33: =0 -> 0 | AE33: =0 -> 0 | AF33: =0 -> 0 | AG33: =0 -> 0 | AH33: =0 -> 0 | AI33: =0 -> 0 | AJ33: =0 -> 0 | AK33: 42.98 | AL33: 0 | AM33: 0 | AN33: 0 | AO33: 0 | AP33: 0 | AQ33: 0 | AR33: 0 | AS33: 0 | AT33: 0 | AU33: 0 | AV33: 1 | AW33: 1 | AZ33: 1 | BA33: 1 | BB33: 1 | BC33: 1 | BH33: 0 | BI33: 1 | BJ33: ФССЦпг-2001, т01-01-01-041, приказ Минстроя России №876/пр от 26.12.2019 | BM33: 700030 | BN33: 0 | BP33: 0 | BQ33: 20 | BR33: 0 | BS33: 1 | BT33: 1 | BU33: 1 | BV33: 1 | BW33: 1 | BX33: 1 | BZ33: 0 | CA33: 0 | CE33: 12 | CF33: 0 | CG33: 0 | CM33: 0 | CO33: 0 | CP33: =AB33*AZ33 -> 42.98 | CQ33: 0 | CR33: 0 | CS33: 0 | CT33: 0 | CU33: 0 | CV33: 0 | CW33: 0 | CX33: 0 | CY33: 0 | CZ33: 0 | DN33: 0 | DO33: 0 | DP33: 1 | DQ33: 1 | DU33: 1013 | DV33: 1 Т ГРУЗА | DW33: 1 Т ГРУЗА | DX33: 1 | EE33: 53151604 | EF33: 20 | EG33: Погр.-разгр. работы вручную | EH33: 106 | EI33: Погрузочно-разгрузочные работы | EJ33: 1 | EK33: 700030 | EL33: Погрузочно-разгрузочные работы вручную | EM33: ФССЦпр пог. а/п (2011,изм. 4-6) | EQ33: 1310720 | ER33: 0 | ES33: 0 | ET33: 0 | EU33: 0 | EV33: 0 | EW33: 0 | EX33: 0 | EY33: 0 | FQ33: 0 | FR33: =ROUND(IF(BI33=3,GM33,0),2) -> 0 | FS33: 0 | FX33: 0 | FY33: 0 | GD33: 1 | GF33: 1276011705 | GG33: 2 | GH33: 1 | GI33: 4 | GJ33: 2 | GK33: 0 | GL33: =ROUND(IF(AND(BH33=3,BI33=3,FS33<>0),P33,0),2) -> 0 | GM33: =ROUND(CP33*I33,2) -> 14.22 | GN33: =IF(OR(BI33=0,BI33=1),GM33-GX33,0) -> 14.22 | GO33: =IF(BI33=2,GM33-GX33,0) -> 0 | GP33: =IF(BI33=4,GM33-GX33,0) -> 0 | GR33: 0 | GS33: 3 | GT33: 0 | GV33: =0 -> 0 | GW33: 1 | GX33: =0 -> 0 | HA33: 0 | HB33: 0 | HC33: 0 | HD33: =GM33 -> 14.22 | IK33: 0
A34: 17 | B34: 1 | E34: 5 | F34: т03-02-01-015 | G34: Перевозка грузов I класса автомобилями бортовыми грузоподъемностью до 5 т на расстояние до 15 км | H34: 1 Т ГРУЗА | I34: 0.3308 | J34: 0 | K34: 0.3308 | O34: =0 -> 0 | P34: =0 -> 0 | Q34: =0 -> 0 | R34: =0 -> 0 | S34: =0 -> 0 | T34: =0 -> 0 | U34: =0 -> 0 | V34: =0 -> 0 | ... Y34: =0 -> 0 | AA34: 53360025 | AB34: =ROUND((AK34),6) -> 25.02 | AC34: =0 -> 0 | AD34: =0 -> 0 | AE34: =0 -> 0 | AF34: =0 -> 0 | AG34: =0 -> 0 | AH34: =0 -> 0 | AI34: =0 -> 0 | AJ34: =0 -> 0 | AK34: 25.02 | AL34: 0 | AM34: 0 | AN34: 0 | AO34: 0 | AP34: 0 | AQ34: 0 | AR34: 0 | AS34: 0 | AT34: 0 | AU34: 0 | AV34: 1 | AW34: 1 | AZ34: 17.8 | BA34: 1 | BB34: 1 | BC34: 1 | BH34: 0 | BI34: 1 | BJ34: ФССЦпг-2001, т03-02-01-015, приказ Минстроя России №876/пр от 26.12.2019 | BM34: 700005 | BN34: 0 | BO34: письмо Минстроя России от 23.07.2026 № 45358-ИФ/09. Регистрационный номер 420 | BP34: 1 | BQ34: 10 | BR34: 0 | BS34: 1 | BT34: 1 | BU34: 1 | BV34: 1 | BW34: 1 | BX34: 1 | BZ34: 0 | CA34: 0 | CE34: 12 | CF34: 0 | CG34: 0 | CM34: 0 | CO34: 0 | CP34: =AB34*AZ34 -> 445.356 | CQ34: 0 | CR34: 0 | CS34: 0 | CT34: 0 | CU34: 0 | CV34: 0 | CW34: 0 | CX34: 0 | CY34: 0 | CZ34: 0 | DN34: 0 | DO34: 0 | DP34: 1 | DQ34: 1 | DU34: 1013 | DV34: 1 Т ГРУЗА | DW34: 1 Т ГРУЗА | DX34: 1 | EE34: 53151594 | EF34: 10 | EG34: Автомобили бортовые | EH34: 107 | EI34: Перевозка строительных грузов автомобильным транспортом | EJ34: 1 | EK34: 700005 | EL34: Перевозка строительных грузов автомобильным транспортом | EM34: ФССЦпр , изм. 7 | EQ34: 1310720 | ER34: 0 | ES34: 0 | ET34: 0 | EU34: 0 | EV34: 0 | EW34: 0 | EX34: 0 | EY34: 0 | FQ34: 0 | FR34: =ROUND(IF(BI34=3,GM34,0),2) -> 0 | FS34: 0 | FX34: 0 | FY34: 0 | GD34: 1 | GF34: -292668168 | GG34: 2 | GH34: 1 | GI34: 4 | GJ34: 2 | GK34: 0 | GL34: =ROUND(IF(AND(BH34=3,BI34=3,FS34<>0),P34,0),2) -> 0 | GM34: =ROUND(CP34*I34,2) -> 147.32 | GN34: =IF(OR(BI34=0,BI34=1),GM34-GX34,0) -> 147.32 | GO34: =IF(BI34=2,GM34-GX34,0) -> 0 | GP34: =IF(BI34=4,GM34-GX34,0) -> 0 | GR34: 0 | GS34: 3 | GT34: 0 | GV34: =0 -> 0 | GW34: 1 | GX34: =0 -> 0 | HA34: 0 | HB34: 0 | HC34: 0 | HD34: =GM34 -> 147.32 | IK34: 0
A35: 17 | B35: 1 | C35: =ROW(SmtRes!A23) -> 23 | D35: =ROW(EtalonRes!A22) -> 22 | E35: 6 | F35: 06-03-001-01 | G35: Устройство опалубки (снизу) и поддерживающих ее конструкций для высоких ростверков (для крыльца) | H35: 100 м2 | I35: =ROUND(1.88/100,7) -> 0.0188 | J35: 0 | K35: =ROUND(1.88/100,7) -> 0.0188 | O35: =ROUND(CP35,2) -> 861.25 | P35: =ROUND(CQ35*I35,2) -> 214.94 | Q35: =(ROUND((ROUND((((ET35*ROUND(1.25,7)))*I35),2)*BB35),2)+ROUND((ROUND(((AE35-((EU35*ROUND(1.25,7))))*I35),2)*BS35),2)) -> 13.27 | R35: =(ROUND((ROUND((((EU35*ROUND(1.25,7)))*I35),2)*BS35),2)+ROUND((ROUND(((AE35-((EU35*ROUND(1.25,7))))*I35),2)*BS35),2)) -> 4.33 | S35: =ROUND(CT35*I35,2) -> 633.04 | T35: =ROUND(CU35*I35,2) -> 0 | U35: =ROUND(CV35*I35,7) -> 1.90256 | V35: =ROUND(CW35*I35,7) -> 0.01034 | W35: =ROUND(CX35*I35,2) -> 0 | X35: =ROUND(CY35,2) -> 585.11 | Y35: =ROUND(CZ35,2) -> 314.22 | AA35: 53360025 | AB35: =ROUND((AC35+AD35+AF35),6) -> 2205.5195 | AC35: =ROUND((ES35),6) -> 1300.68 | AD35: =ROUND(((((ET35*ROUND(1.25,7)))-((EU35*ROUND(1.25,7))))+AE35),6) -> 48.6875 | AE35: =ROUND(((EU35*ROUND(1.25,7))),6) -> 6.0375 | AF35: =ROUND(((EV35*ROUND(1.15,7))),6) -> 856.152 | AG35: =ROUND((AP35),6) -> 0 | AH35: =((EW35*ROUND(1.15,7))) -> 101.2 | AI35: =((EX35*ROUND(1.25,7))) -> 0.55 | AJ35: =(AS35) -> 0 | AK35: 2084.11 | AL35: 1300.68 | AM35: 38.95 | AN35: 4.83 | AO35: 744.48 | AP35: 0 | AQ35: 88 | AR35: 0.44 | AS35: 0 | AT35: 91.8 | AU35: 49.3 | AV35: 1 | AW35: 1 | AZ35: 1 | BA35: 39.33 | BB35: 14.42 | BC35: 8.79 | BH35: 0 | BI35: 1 | BJ35: ФЕР-2001, 06-03-001-01, приказ Минстроя России № 876/пр от 26.12.2019 | BM35: 6001 | BN35: 0 | BO35: письмо Минстроя России от 23.07.2026 № 45358-ИФ/09. Регистрационный номер 420; письмо Минстроя России от 23.07.2026 № 45358-ИФ/09. Регистрационный номер 420; письмо Минстроя России от 23.07.2026 № 45358-ИФ/09. Регистрационный номер 420; письмо Минстроя России от 23.07.2026 № 45358-ИФ/09. Регистрационный номер 420; | BP35: 1 | BQ35: 2 | BR35: 0 | BS35: 39.33 | BT35: 1 | BU35: 1 | BV35: 1 | BW35: 1 | BX35: 1 | BZ35: 102 | CA35: 58 | CE35: 12 | CF35: 0 | CG35: 0 | CM35: 0 | CN35: Поправка: 421/пр_2020_п.58_пп.б Наименование: При отсутствии необходимых норм (единичных расценок), включенных в сборники ГЭСНр (ФЕРр, ТЕРр), сметные затраты на работы по капитальному ремонту и реконструкции объектов капитального строительства могут быть определены по сметным нормам, включенным в ГЭСН (ФЕР, ТЕР), аналогичным технологическим процессам в новом строительстве, в том числе по возведению новых конструктивных элементов | CO35: 0 | CP35: =(P35+Q35+S35) -> 861.25 | CQ35: =AC35*BC35 -> 11432.977 | CR35: =(ROUND((ROUND((((ET35*ROUND(1.25,7)))*1),2)*BB35),2)+ROUND((ROUND(((AE35-((EU35*ROUND(1.25,7))))*1),2)*BS35),2)) -> 702.11 | CS35: =(ROUND((ROUND((((EU35*ROUND(1.25,7)))*1),2)*BS35),2)+ROUND((ROUND(((AE35-((EU35*ROUND(1.25,7))))*1),2)*BS35),2)) -> 237.55 | CT35: =AF35*BA35 -> 33672.458 | CU35: =AG35 -> 0 | CV35: =AH35 -> 101.2 | CW35: =AI35 -> 0.55 | CX35: =AJ35 -> 0 | CY35: =(((S35+R35)*AT35)/100) -> 585.10566 | CZ35: =(((S35+R35)*AU35)/100) -> 314.22341 | DB35: 1 | DE35: *1,25 | DF35: *1,25 | DG35: *1,15 | DI35: *1,15 | DJ35: *1,25 | DL35: *0,9 | DM35: *0,85 | DN35: 0 | DO35: 0 | DP35: 1 | DQ35: 1 | DU35: 1005 | DV35: 100 м2 | DW35: 100 м2 | DX35: 100 | EE35: 53151275 | EF35: 2 | EG35: Общестроительные работы | EH35: 6 | EI35: Бетонные и железобетонные монолитные конструкции и работы в строительстве | EJ35: 1 | EK35: 6001 | EL35: Бетонные и железобетонные монолитные конструкции и работы в строительстве | EM35: ФЕР-06 | EO35: Поправка: 421/пр_2020_п.58_пп.б | EQ35: 1311232 | ER35: 2084.11 | ES35: 1300.68 | ET35: 38.95 | EU35: 4.83 | EV35: 744.48 | EW35: 88 | EX35: 0.44 | EY35: 0 | FQ35: 0 | FR35: =ROUND(IF(BI35=3,GM35,0),2) -> 0 | FS35: 0 | FX35: 91.8 | FY35: 49.3 | GD35: 1 | GF35: 47938511 | GG35: 2 | GH35: 1 | GI35: 4 | GJ35: 0 | GK35: 0 | GL35: =ROUND(IF(AND(BH35=3,BI35=3,FS35<>0),P35,0),2) -> 0 | GM35: =ROUND(O35+X35+Y35,2)+GX35 -> 1760.58 | GN35: =IF(OR(BI35=0,BI35=1),GM35-GX35,0) -> 1760.58 | GO35: =IF(BI35=2,GM35-GX35,0) -> 0 | GP35: =IF(BI35=4,GM35-GX35,0) -> 0 | GR35: 0 | GS35: 3 | GT35: 0 | GV35: =ROUND((GT35),6) -> 0 | GW35: 1 | GX35: =ROUND(HC35*I35,2) -> 0 | HA35: 0 | HB35: 0 | HC35: =GV35*GW35 -> 0 | HN35: Пр/812-006.0-1 | HO35: Пр/774-006.0 | HP35: Бетонные и железобетонные монолитные конструкции и работы в строительстве | HQ35: Бетонные и железобетонные монолитные конструкции и работы в строительстве | IK35: 0
